BEGIN:VCALENDAR
VERSION:2.0
PRODID:-//La Nef - ECPv6.15.11//NONSGML v1.0//EN
CALSCALE:GREGORIAN
METHOD:PUBLISH
X-ORIGINAL-URL:https://www.lanef.be
X-WR-CALDESC:Events for La Nef
REFRESH-INTERVAL;VALUE=DURATION:PT1H
X-Robots-Tag:noindex
X-PUBLISHED-TTL:PT1H
BEGIN:VTIMEZONE
TZID:Europe/Brussels
BEGIN:DAYLIGHT
TZOFFSETFROM:+0100
TZOFFSETTO:+0200
TZNAME:CEST
DTSTART:20230326T010000
END:DAYLIGHT
BEGIN:STANDARD
TZOFFSETFROM:+0200
TZOFFSETTO:+0100
TZNAME:CET
DTSTART:20231029T010000
END:STANDARD
BEGIN:DAYLIGHT
TZOFFSETFROM:+0100
TZOFFSETTO:+0200
TZNAME:CEST
DTSTART:20240331T010000
END:DAYLIGHT
BEGIN:STANDARD
TZOFFSETFROM:+0200
TZOFFSETTO:+0100
TZNAME:CET
DTSTART:20241027T010000
END:STANDARD
BEGIN:DAYLIGHT
TZOFFSETFROM:+0100
TZOFFSETTO:+0200
TZNAME:CEST
DTSTART:20250330T010000
END:DAYLIGHT
BEGIN:STANDARD
TZOFFSETFROM:+0200
TZOFFSETTO:+0100
TZNAME:CET
DTSTART:20251026T010000
END:STANDARD
END:VTIMEZONE
BEGIN:VEVENT
DTSTART;TZID=Europe/Brussels:20240915T200000
DTEND;TZID=Europe/Brussels:20240915T213000
DTSTAMP:20260424T021355
CREATED:20240828T134026Z
LAST-MODIFIED:20240828T134027Z
UID:10975-1726430400-1726435800@www.lanef.be
SUMMARY:Ponts Spalaux - Li Djoû Di M'Mariage
DESCRIPTION:ou comment se marier vite fait bien fait quand on n’a pas les moyens d’aller à Las Vegas parce que les compagnies aériennes sont en grève\, que l’essence coûte cher et qu’à vélo\, ça fait beaucoup de kilomètres juste pour se passer la bague au doigt sur un air d’Elvis… \n\n\n\nLes Ponts Spalaux mettront le mariage à l’honneur tout le week-end des Wallos 2022\, avec en point d’orgue le dimanche soir : Li djoû di m’mariadje ! \n\n\n\nEn duo\, en trio\, avec sa lapine ou son poisson rouge\, avec sa légitime ou son amant… un seul lieu pour se marier : le quartier des Ponts Spalaux !
URL:https://www.lanef.be/event/ponts-spalaux-li-djou-di-mmariage/
LOCATION:La Nef\, 2 rue saint-Nicolas\, NAMUR\, Namur\, 5000\, Belgium
END:VEVENT
END:VCALENDAR