BEGIN:VCALENDAR
VERSION:2.0
PRODID:-//La Nef - ECPv6.15.11//NONSGML v1.0//EN
CALSCALE:GREGORIAN
METHOD:PUBLISH
X-ORIGINAL-URL:https://www.lanef.be
X-WR-CALDESC:Events for La Nef
REFRESH-INTERVAL;VALUE=DURATION:PT1H
X-Robots-Tag:noindex
X-PUBLISHED-TTL:PT1H
BEGIN:VTIMEZONE
TZID:Europe/Brussels
BEGIN:DAYLIGHT
TZOFFSETFROM:+0100
TZOFFSETTO:+0200
TZNAME:CEST
DTSTART:20230326T010000
END:DAYLIGHT
BEGIN:STANDARD
TZOFFSETFROM:+0200
TZOFFSETTO:+0100
TZNAME:CET
DTSTART:20231029T010000
END:STANDARD
BEGIN:DAYLIGHT
TZOFFSETFROM:+0100
TZOFFSETTO:+0200
TZNAME:CEST
DTSTART:20240331T010000
END:DAYLIGHT
BEGIN:STANDARD
TZOFFSETFROM:+0200
TZOFFSETTO:+0100
TZNAME:CET
DTSTART:20241027T010000
END:STANDARD
BEGIN:DAYLIGHT
TZOFFSETFROM:+0100
TZOFFSETTO:+0200
TZNAME:CEST
DTSTART:20250330T010000
END:DAYLIGHT
BEGIN:STANDARD
TZOFFSETFROM:+0200
TZOFFSETTO:+0100
TZNAME:CET
DTSTART:20251026T010000
END:STANDARD
END:VTIMEZONE
BEGIN:VEVENT
DTSTART;TZID=Europe/Brussels:20240402T200000
DTEND;TZID=Europe/Brussels:20240402T230000
DTSTAMP:20260423T110942
CREATED:20231128T121614Z
LAST-MODIFIED:20231128T123421Z
UID:8652-1712088000-1712098800@www.lanef.be
SUMMARY:And Also The Trees
DESCRIPTION:PANAMA et La Nef présentent AND ALSO THE TREES en concert  \n\n\n\nAnd Also The Trees s’est formé à l’époque du « Post-Punk » dans le Worcestershire\, en Angleterre.Ils sont connus pour leurs performances live captivantes\, leur style unique de mandoline comme la guitare électrique\, leurs paroles évocatrices\, leurs rythmes de jazz sombre et leur indépendance soigneusement préservée. \n\n\n\n« Mother-of-pearl Moon »\, le nouvel album « And Also The Trees »\, est une œuvre puissante qui a commencé comme une série d’improvisations extraordinaires à la guitare. Une voix\, une clarinette\, un piano\, des percussions\, une autoharpe et du Moog ont été ajoutés et l’auditeur est transporté dans les profondeurs de la campagne anglaise\, au loin dans toutes les directions de la boussole. L’album sortira en février 2024  \n\n\n\nIls seront dans le cadre prestigieux de l’église de à La Nef pour le présenter .
URL:https://www.lanef.be/event/and-also-the-trees/
LOCATION:La Nef\, 2 rue saint-Nicolas\, NAMUR\, Namur\, 5000\, Belgium
CATEGORIES:Musique
ATTACH;FMTTYPE=image/jpeg:https://www.lanef.be/wp-content/uploads/2023/11/AATT_band2023_16-9-scaled.jpg
ORGANIZER;CN="La Nef":MAILTO:info@lanef.be
END:VEVENT
BEGIN:VEVENT
DTSTART;TZID=Europe/Brussels:20240404T200000
DTEND;TZID=Europe/Brussels:20240404T230000
DTSTAMP:20260423T110942
CREATED:20231128T124910Z
LAST-MODIFIED:20240122T065227Z
UID:8659-1712260800-1712271600@www.lanef.be
SUMMARY:Sois belge et tais-toi
DESCRIPTION:LA NEF et le Saint Louis Festival présentent \n\n\n\n« Remy en scène » \n\n\n\nLe nouveau spectacle de Baudouin Remy \n\n\n\nTout le monde connaît Sois Belge et Tais-toi ! Encore fallait-il oser le réinventer. C’est fait ! \n\n\n\nLe célèbre spectacle d’André et Baudouin Remy est né en 1997-1998 et\, au cours des années\, il est devenu l’un des spectacles les plus populaires et réputés de la scène et de l’humour belge avec des tournées 50 à 60 dates par an dans les plus grandes salles \n\n\n\nPour fêter son 25ème anniversaire\, Baudouin s’est remis au travail d’écriture. Et c’est une bonne nouvelle : Sois Belge et Tais-toi est « Remy en scène » dans une toute nouvelle formule percutante\, malicieuse\, audacieuse\, irrévérencieuse\, et très actuelle. \n\n\n\nPour l’auteur-interprète\, il s’agit d’un retour à l’essentiel de ce qui a fait le succès de Sois Belge et Tais-toi : un texte drôle\, vif\, bien écrit\, documenté\, impertinent\, accessible à tout le monde et utilement ponctué d’imitations et parodies très réussies. \n\n\n\nVous voyez le tableau ? Baudouin Remy y excelle… \n\n\n\nCe qu’il ose déballer pendant ce spectacle va vous emballer\, vous interpeller et vous faire beaucoup rire. \n\n\n\nAprès plus de 1000 spectacles sur les plus grandes scènes\, Baudouin Remy réinvente son spectacle dans une formule adaptée à toutes les salles et à tous les publics\, pour raconter un pays où tout est compromis (…car chez nous on a un tel sens du compromis que même l’avenir est compromis) \n\n\n\nSon dernier spectacle est son premier … Et son tout est déjà reconnu d’utilité publique.
URL:https://www.lanef.be/event/sois-belge-et-tais-toi/
LOCATION:La Nef\, 2 rue saint-Nicolas\, NAMUR\, Namur\, 5000\, Belgium
CATEGORIES:Humour
ATTACH;FMTTYPE=image/jpeg:https://www.lanef.be/wp-content/uploads/2023/11/affiche-remy-en-scene-16_9.jpg
ORGANIZER;CN="La Nef":MAILTO:info@lanef.be
END:VEVENT
BEGIN:VEVENT
DTSTART;TZID=Europe/Brussels:20240406T190000
DTEND;TZID=Europe/Brussels:20240406T230000
DTSTAMP:20260423T110942
CREATED:20240126T142840Z
LAST-MODIFIED:20240310T141941Z
UID:8971-1712430000-1712444400@www.lanef.be
SUMMARY:Karaoke géant animé par Nicolas Buysse
DESCRIPTION:Après une première édition hors du commun\, le karaoke de La Nef est de retour. \n\n\n\nVenez interpréter vos morceaux préférés sur une véritable scène  \n\n\n\nNicolas Buysse sera présent pour mettre le feu à la soirée accompagné d’Henrique from Ibiza. Ambiance garantie \n\n\n\nEntrée gratuite.Réservez votre table ou votre repas:
URL:https://www.lanef.be/event/karaoke-geant-anime-par-nicolas-buysse-2/
LOCATION:La Nef\, 2 rue saint-Nicolas\, NAMUR\, Namur\, 5000\, Belgium
CATEGORIES:Autre
ATTACH;FMTTYPE=image/jpeg:https://www.lanef.be/wp-content/uploads/2023/11/karaoke.jpg
END:VEVENT
BEGIN:VEVENT
DTSTART;TZID=Europe/Brussels:20240411T180000
DTEND;TZID=Europe/Brussels:20240412T233000
DTSTAMP:20260423T110942
CREATED:20240327T141918Z
LAST-MODIFIED:20240327T141919Z
UID:9490-1712858400-1712964600@www.lanef.be
SUMMARY:J t'emmène au vin - Bourgogne et Beaujolais
DESCRIPTION:Dans le cadre exceptionnel d’une église désacralisée\, en plein coeur de Namur\, venez déguster une dizaine de vins blancs et rouges que nous sommes allés dénicher en Bourgogne et dans le Beaujolais\, lors de notre bar à vin éphémère ces jeudi 11 et vendredi 12 avril.Nombre de places limité.  \n\n\n\nInscription sur jtemmeneauvin@gmail.com
URL:https://www.lanef.be/event/j-temmene-au-vin-bourgogne-et-beaujolais/
LOCATION:La Nef\, 2 rue saint-Nicolas\, NAMUR\, Namur\, 5000\, Belgium
CATEGORIES:Autre
ATTACH;FMTTYPE=image/jpeg:https://www.lanef.be/wp-content/uploads/2024/03/image.jpg
END:VEVENT
BEGIN:VEVENT
DTSTART;TZID=Europe/Brussels:20240413T150000
DTEND;TZID=Europe/Brussels:20240413T170000
DTSTAMP:20260423T110942
CREATED:20240126T144057Z
LAST-MODIFIED:20240126T144547Z
UID:8979-1713020400-1713027600@www.lanef.be
SUMMARY:Challenge d’Eloquence Daniel L'Hoir
DESCRIPTION:Les 40 Molons sont heureux de vous annoncer le retour du Challenge d’Eloquence (et ceci est un clin d’œil malicieux mais non un poisson du premier du mois). L’endroit choisi pour ce concours est le cadre prestigieux de la NEF\, située dans l’église désacralisée rue St Nicolas. \n\n\n\nDe nombreux lots récompenseront les lauréats et candidats. Le concours réunit des candidats de 8 à 15 ans\, qui déclameront une histoire\, un poème ou qui présenteront une saynète dans le but de faire rire ou émouvoir l’auditoire. Les prestations peuvent se faire en solo\, en duo ou à trois\, en français ou en wallon\, et dans un langage visant à ne blesser quiconque. \n\n\n\nInscriptions et Infos:ce.dellisse@yahoo.fr – Claude DELLISSE
URL:https://www.lanef.be/event/challenge-deloquence-daniel-lhoir/
LOCATION:La Nef\, 2 rue saint-Nicolas\, NAMUR\, Namur\, 5000\, Belgium
ATTACH;FMTTYPE=image/jpeg:https://www.lanef.be/wp-content/uploads/2023/02/323903338_1195400284410559_4400557958737771879_n.jpg
END:VEVENT
BEGIN:VEVENT
DTSTART;TZID=Europe/Brussels:20240419T080000
DTEND;TZID=Europe/Brussels:20240420T170000
DTSTAMP:20260423T110942
CREATED:20240229T130717Z
LAST-MODIFIED:20240229T131651Z
UID:9260-1713513600-1713632400@www.lanef.be
SUMMARY:Fest'IPA 2024
DESCRIPTION:Venez découvrir la richesse du style « IPA »… de l’amertume aux fruits exotiques\, des légères aux fortes\, des blondes aux noires… \n\n\n\nNous nous réjouissons de vous accueillir ces 19 et 20 avril à la NEF ! \n\n\n\nSuivez-nous pour découvrir au fur et à mesure les bières et brasseries que nous vous proposerons! \n\n\n\nHoraire :Vendredi 19 avril : 15h00 – 23h00Samedi 20 avril : 11h00 – 23h00 \n\n\n\nEntrée gratuite
URL:https://www.lanef.be/event/festipa-2024/
LOCATION:La Nef\, 2 rue saint-Nicolas\, NAMUR\, Namur\, 5000\, Belgium
CATEGORIES:Evenement
ATTACH;FMTTYPE=image/png:https://www.lanef.be/wp-content/uploads/2024/02/Logo-FestIPA-2024.png
END:VEVENT
BEGIN:VEVENT
DTSTART;TZID=Europe/Brussels:20240427T200000
DTEND;TZID=Europe/Brussels:20240427T230000
DTSTAMP:20260423T110942
CREATED:20231213T124948Z
LAST-MODIFIED:20240216T132657Z
UID:8741-1714248000-1714258800@www.lanef.be
SUMMARY:Saule Un Soir à l'Opéra
DESCRIPTION:Après\, un succès public et une prestation acclamée de tous\, Saule revient à La Nef . \n\n\n\nUn soir à l’opéra… \n\n\n\nAprès 15 ans de carrière et cinq albums\, Saule revient avec une version complètement revisitée de tous ses titres dans une tournée unique :  \n\n\n\nVioloncelle \, violon\, guitare acoustiques \, banjo et mandolines … une version intimiste et totalement inédite ou Saule se balade dans toute sa discographie comme vous ne l’avez jamais vu  \n\n\n\n Ne ratez pas ca !
URL:https://www.lanef.be/event/saule-un-soir-a-lopera-2/
LOCATION:La Nef\, 2 rue saint-Nicolas\, NAMUR\, Namur\, 5000\, Belgium
CATEGORIES:Musique
ATTACH;FMTTYPE=image/jpeg:https://www.lanef.be/wp-content/uploads/2023/08/SAULE_OPERA_16-9-scaled.jpg
END:VEVENT
BEGIN:VEVENT
DTSTART;TZID=Europe/Brussels:20240429T190000
DTEND;TZID=Europe/Brussels:20240429T210000
DTSTAMP:20260423T110942
CREATED:20240327T134944Z
LAST-MODIFIED:20240327T135149Z
UID:9483-1714417200-1714424400@www.lanef.be
SUMMARY:Afrique Lyrique Rosy Kintoki & Léa Nerhot
DESCRIPTION:Le projet “Afrique lyrique” met à l’honneur les formidables chanteuses lyriques d’origine africaine. \n\n\n\nà La Nef de l’Espace culturel d’Harscamp\, la soprano Rosy Kintoki\, aussi intense que sensible\, offrira le florilège d’airs d’opéra et de mélodies. \n\n\n\nElle sera accompagnée à la harpe par Léa Nerhot. \n\n\n\nInscription obligatoire : barbarawitkowska@pizzicato.be \n\n\n\nTél. 0479 57 41 66. \n\n\n\nProgramme :– Franz Schubert : Ständchen/Sérénade (le chant du cygne) – Franz Schubert : Gretchen am Spinnenrade – Félix Mendelssohn : Auf Flügeln des Gesanges    Harpe solo    – Reynaldo Hahn : L’heure exquise  –  Gabriel Fauré : Clair de lune   – Claude Debussy : Beau soir  – Vincenzo Bellini : Oh ! quante volte   – Giacomo Puccini : O mio babbino caro.   Harpe solo    – Antonin Dvorak : Rusalka\, Mesicku na nebi hlubokém – George Gershwin : Summertime  – William E.Barton : Sometimes I Feel Like A Motherless Child  – Leo Delibes : Les filles de Cadix.  
URL:https://www.lanef.be/event/afrique-lyrique-rosy-kintoki-lea-nerhot/
LOCATION:La Nef\, 2 rue saint-Nicolas\, NAMUR\, Namur\, 5000\, Belgium
CATEGORIES:Classique
ATTACH;FMTTYPE=image/jpeg:https://www.lanef.be/wp-content/uploads/2024/03/Rosy-Kintoki-03-16-9.jpg
END:VEVENT
END:VCALENDAR