BEGIN:VCALENDAR
VERSION:2.0
PRODID:-//La Nef - ECPv6.15.11//NONSGML v1.0//EN
CALSCALE:GREGORIAN
METHOD:PUBLISH
X-ORIGINAL-URL:https://www.lanef.be
X-WR-CALDESC:Events for La Nef
REFRESH-INTERVAL;VALUE=DURATION:PT1H
X-Robots-Tag:noindex
X-PUBLISHED-TTL:PT1H
BEGIN:VTIMEZONE
TZID:Europe/Brussels
BEGIN:DAYLIGHT
TZOFFSETFROM:+0100
TZOFFSETTO:+0200
TZNAME:CEST
DTSTART:20220327T010000
END:DAYLIGHT
BEGIN:STANDARD
TZOFFSETFROM:+0200
TZOFFSETTO:+0100
TZNAME:CET
DTSTART:20221030T010000
END:STANDARD
BEGIN:DAYLIGHT
TZOFFSETFROM:+0100
TZOFFSETTO:+0200
TZNAME:CEST
DTSTART:20230326T010000
END:DAYLIGHT
BEGIN:STANDARD
TZOFFSETFROM:+0200
TZOFFSETTO:+0100
TZNAME:CET
DTSTART:20231029T010000
END:STANDARD
BEGIN:DAYLIGHT
TZOFFSETFROM:+0100
TZOFFSETTO:+0200
TZNAME:CEST
DTSTART:20240331T010000
END:DAYLIGHT
BEGIN:STANDARD
TZOFFSETFROM:+0200
TZOFFSETTO:+0100
TZNAME:CET
DTSTART:20241027T010000
END:STANDARD
BEGIN:DAYLIGHT
TZOFFSETFROM:+0100
TZOFFSETTO:+0200
TZNAME:CEST
DTSTART:20250330T010000
END:DAYLIGHT
BEGIN:STANDARD
TZOFFSETFROM:+0200
TZOFFSETTO:+0100
TZNAME:CET
DTSTART:20251026T010000
END:STANDARD
END:VTIMEZONE
BEGIN:VEVENT
DTSTART;TZID=Europe/Brussels:20231208T170000
DTEND;TZID=Europe/Brussels:20240107T233000
DTSTAMP:20260423T134350
CREATED:20231109T092652Z
LAST-MODIFIED:20231109T145750Z
UID:8435-1702054800-1704670200@www.lanef.be
SUMMARY:Les lumières du Nord
DESCRIPTION:Point de départ et d’arrivée du parcours Namur en Lumière dans lequel La Nef s’inscrit en proposant une œuvre lumineuse sur le thème des  aurores boréales et des constellations.  \n\n\n\nUne création visuelle\, un show lumière immersif recréant l’esprit des aurores boréales pour une expérience unique dans le chœur de la Nef. \n\n\n\n \n\n\n\nL’oeuvre sera accessible 7 jours sur 7 de 17h à minuit. L’accès est gratuit.  \n\n\n\nLe bar est accessible. L’espace resturation de type FOODCOURT est accessible les jeudis\, vendredis et samedis.
URL:https://www.lanef.be/event/les-lumieres-du-nord/
LOCATION:La Nef\, 2 rue saint-Nicolas\, NAMUR\, Namur\, 5000\, Belgium
CATEGORIES:Art - Exposition
ATTACH;FMTTYPE=image/png:https://www.lanef.be/wp-content/uploads/2023/11/zoointhesky.png
END:VEVENT
BEGIN:VEVENT
DTSTART;TZID=Europe/Brussels:20231208T170000
DTEND;TZID=Europe/Brussels:20240107T233000
DTSTAMP:20260423T134350
CREATED:20231109T092829Z
LAST-MODIFIED:20231207T081858Z
UID:8437-1702054800-1704670200@www.lanef.be
SUMMARY:Bar nordique et Foodcourt
DESCRIPTION:L’espace horeca de La Nef est entièrement réaménagé pour vous accueillir durant tou le mois de décembre dans une ambiance nordique.  \n\n\n\nVous pourrez y déguster du vin chaud\, nos bières de Noel dans nos fauteuils ou sur nos toutes nouvelles tâbles d’hôtes en bois.  \n\n\n\nNous ouvrons également un espace de restauration où vous pourrez y déguster les nombreux plats de nos partenaires.  \n\n\n\nAu menu : \n\n\n\n– nachos  \n\n\n\n– planche apéritive froide  \n\n\n\n \n\n\n\n– soupe potimaron et pain  \n\n\n\n– toast saumon gravlax  \n\n\n\n– croquette artisanale ( 3p)  \n\n\n\n– burger  \n\n\n\n \n\n\n\n– tartiflette  \n\n\n\n– Chili corn carne  \n\n\n\nMenu Burger: \n\n\n\nLe 78 : Parmesan\, olives noires\, roquette\, sauce mayo truffe \n\n\n\nLe Sanglier Sauvage: Noix de marcassin\, fromage raclette\, roquette\, confit d’oignons \n\n\n\nLe Pelican Noir: Jalapenos\, chorizo\, cheddar\, sauce andalouse \n\n\n\nLe Véggie: Galette de haricots rouge\, roquette\, sauce paprika
URL:https://www.lanef.be/event/bar-nordique-et-foodcourt/
LOCATION:La Nef\, 2 rue saint-Nicolas\, NAMUR\, Namur\, 5000\, Belgium
CATEGORIES:Autre
ATTACH;FMTTYPE=image/png:https://www.lanef.be/wp-content/uploads/2023/11/zoo-horeca.png
END:VEVENT
END:VCALENDAR