BEGIN:VCALENDAR
VERSION:2.0
PRODID:-//La Nef - ECPv6.15.11//NONSGML v1.0//EN
CALSCALE:GREGORIAN
METHOD:PUBLISH
X-ORIGINAL-URL:https://www.lanef.be
X-WR-CALDESC:Events for La Nef
REFRESH-INTERVAL;VALUE=DURATION:PT1H
X-Robots-Tag:noindex
X-PUBLISHED-TTL:PT1H
BEGIN:VTIMEZONE
TZID:Europe/Brussels
BEGIN:DAYLIGHT
TZOFFSETFROM:+0100
TZOFFSETTO:+0200
TZNAME:CEST
DTSTART:20220327T010000
END:DAYLIGHT
BEGIN:STANDARD
TZOFFSETFROM:+0200
TZOFFSETTO:+0100
TZNAME:CET
DTSTART:20221030T010000
END:STANDARD
BEGIN:DAYLIGHT
TZOFFSETFROM:+0100
TZOFFSETTO:+0200
TZNAME:CEST
DTSTART:20230326T010000
END:DAYLIGHT
BEGIN:STANDARD
TZOFFSETFROM:+0200
TZOFFSETTO:+0100
TZNAME:CET
DTSTART:20231029T010000
END:STANDARD
BEGIN:DAYLIGHT
TZOFFSETFROM:+0100
TZOFFSETTO:+0200
TZNAME:CEST
DTSTART:20240331T010000
END:DAYLIGHT
BEGIN:STANDARD
TZOFFSETFROM:+0200
TZOFFSETTO:+0100
TZNAME:CET
DTSTART:20241027T010000
END:STANDARD
END:VTIMEZONE
BEGIN:VEVENT
DTSTART;TZID=Europe/Brussels:20230603T100000
DTEND;TZID=Europe/Brussels:20230604T180000
DTSTAMP:20260423T232944
CREATED:20230410T095752Z
LAST-MODIFIED:20230512T082840Z
UID:7319-1685786400-1685901600@www.lanef.be
SUMMARY:Spirits Festival by Wine and More
DESCRIPTION:SPIRITS FESTIVAL du samedi 3 au dimanche 4 juin\, le nouvel événement WINE&MORE ! \n\n\n\nDÉGUSTATIONS & PROMOTIONS ; voici ce qui vous attend durant ces deux journées dédiées au GIN\, WHISKY\, RHUM et diverses autres LIQUEURS. \n\n\n\nLes partenaires de Wine & More viendront de partout en Belgique afin de vous rencontrer et vous raconter leur histoire ainsi que celle de leurs produits venant\, eux\, du monde entier. \n\n\n\nEntrée 6\,00€. Ouverture à 12:00. Fermeture à 21:00 le samedi et 18:00 le dimanche
URL:https://www.lanef.be/event/spirit-festival-by-wine-and-more/
LOCATION:Namur
CATEGORIES:Salon
ATTACH;FMTTYPE=image/jpeg:https://www.lanef.be/wp-content/uploads/2023/04/POST-FB.jpg
END:VEVENT
BEGIN:VEVENT
DTSTART;TZID=Europe/Brussels:20230615T200000
DTEND;TZID=Europe/Brussels:20230615T230000
DTSTAMP:20260423T232944
CREATED:20230216T145320Z
LAST-MODIFIED:20230522T130121Z
UID:7078-1686859200-1686870000@www.lanef.be
SUMMARY:An Pierlé - In het frans
DESCRIPTION:La soirée débutera à 20h avec Lucka suivi par An Pierlé. \n\n\n\n\n\n\n\n \n\n\n\nAprès avoir composé et interprété sur scène les musiques des spectacles Marie Tudor\, Happy Family\, Madame est partie\, La Peste\, Bar… Lucka (Luc Van Craesbeeck)\, également programmateur musical au Théâtre Jardin Passion\, remonte sur la scène. Fort d’un premier album sorti fin 2021\, il nous emmène dans son univers aux ambiances tantôt délicates et intimistes\, tantôt envoûtantes\, électriques et volcaniques.  \n\n\n\n« C’est finalement son théâtre à lui que l’on retrouve sur ce premier disque très personnel\, à la fois hybride et original. Entre folk et rock\, il laisse couler son univers musical\, entre ombres et lumières. C’est la vie dont il nous parle\, comme des petits bouts de rêve\, entre prologues et génériques de fin ».Thierry Coljon. Le Mad/Le Soir (15/12/2021) \n\n\n\n \n\n\n\n \n\n\n\n \n\n\n\n \n\n\n\n \n\n\n\n \n\n\n\n \n\n\n\n\n\n\n\n \n\n\n\n \n\n\n\nAn Pierlé est une artiste multi disciplinaire\, pianiste\, auteure\, compositrice interprète\, Elle a reçu le magritte du cinéma pour la composition de la musique originale du film « Le tout nouveau Testament » de Jaco Van Dormael.  \n\n\n\nAprès une carrière de plus de 25 ans\, la gantoise sera présente à La Nef avec sa dernière création. Avec Koen Gisen et accompagnée d’un orchestre complet\, An pierlé propose plusieurs projets aux sonorités variées\, toujours assez jazzy\, et surtout plein d’énergie. Un spectale inédit chanté entièrement en français. Une production La Nef et le Saint-Louis Festival.
URL:https://www.lanef.be/event/7078/
LOCATION:Namur
ATTACH;FMTTYPE=image/png:https://www.lanef.be/wp-content/uploads/2023/02/An-Pierle-concert-15-juin-1920x1080-1.png
END:VEVENT
BEGIN:VEVENT
DTSTART;TZID=Europe/Brussels:20230622T190000
DTEND;TZID=Europe/Brussels:20230622T230000
DTSTAMP:20260423T232944
CREATED:20230531T134706Z
LAST-MODIFIED:20230606T162351Z
UID:7687-1687460400-1687474800@www.lanef.be
SUMMARY:Fever Originals Candlelight : rock des années 80
DESCRIPTION:Après avoir interprété Ludovico Einaudi à la Nef\, Candlelight est de retour mais cette fois-ci\, pour jouer le rock des années 80 ! \n\n\n\nInfos : \n\n\n\n\nDate et heures : jeudi 22 juin 2023 à 19h et 21h (choisis ton option lors de l’achat)\n\n\n\nDurée du concert : 60 minutes environ. Les portes ouvrent 30 minutes avant le début du concert. Les retards ne seront pas permis;\n\n\n\nÂge requis : 8 ans et plus. Les personnes de moins de 16 ans doivent être accompagnées par un adulte;\n\n\n\nAccessibilité : accès PMR disponible pour cet événement (places PMR en Premium\, A et B);\n\n\n\nLes places sont assignées par ordre d’arrivée\, selon la catégorie réservée.\n\n\n\n\nAu programme : \n\n\n\n\nPink Floyd – Another Brick In The Wall\n\n\n\nThe Police – Every Breath You Take\n\n\n\nGuns N’ Roses – Sweet Child Of Mine\n\n\n\nThe Pixies – Where Is My Mind\n\n\n\nToto – Africa\n\n\n\nU2 – Sunday Bloody Sunday\n\n\n\nDepeche Mode – Enjoy The Silence\n\n\n\nThe Cure – Boys Don’t Cry\n\n\n\nA-ha – Hunting High and Low\n\n\n\nA-ha – Take On Me\n\n\n\nScorpions – Wind Of Change\n\n\n\nThe Eagle – Hotel California\n\n\n\nEurope – The Final Countdown
URL:https://www.lanef.be/event/candleligt-rock-des-annees-80/
LOCATION:Namur
ATTACH;FMTTYPE=image/jpeg:https://www.lanef.be/wp-content/uploads/2023/05/Couverture-site-web-la-Nef-1.jpg
END:VEVENT
BEGIN:VEVENT
DTSTART;TZID=Europe/Brussels:20230624T193000
DTEND;TZID=Europe/Brussels:20230624T233000
DTSTAMP:20260423T232944
CREATED:20230218T151500Z
LAST-MODIFIED:20230529T115426Z
UID:7097-1687635000-1687649400@www.lanef.be
SUMMARY:Fête de la Musique
DESCRIPTION:Zone Namur vous invite à la Nef ce samedi 24 juin 2023 pour la 2ème édition de la fête de la musique ! Au programme : \n\n\n\n\n19h30 : Ouverture des portes\n\n\n\n20h30 : Concert de JNY avec O’B League\n\n\n\n21h45 : Concert du GUST\n\n\n\n23h00 : Afterparty avec DJ APE\n\n\n\n\nJNY\, jeune artiste namuroise\, adepte du rap et du chant\, sa musique a de grandes influences RnB/Pop/Rap. Ses musiques abordent les thèmes de l’amour\, de la tristesse ainsi que la rage de réussir dans son art. C’est à la fin de cette année 2020/début de l’année 2021 qu’elle fera une rencontre déterminante pour son évolution musicale\, OB League. C’est un collectif regroupant aujourd’hui 7 membres\, François Gilles (le manager)\, Hugo Rios (le photographe) et 5 artistes : Roswein\, Wel’done\, Ban Le Hoodize\, Tussy en plus de JNY.  \n\n\n\nGust\, jeune rappeur originaire de la région Wallonne\, est passionné de rap français depuis son adolescence. Auteur de deux albums EMPREINTE et B-15\, Gust ne compte pas en rester là… \n\n\n\nEvénement gratuit.
URL:https://www.lanef.be/event/fete-de-la-musique-2/
LOCATION:Namur
CATEGORIES:Musique
ATTACH;FMTTYPE=image/jpeg:https://www.lanef.be/wp-content/uploads/2023/02/FDLM_2023_Banner-copie.jpg
END:VEVENT
END:VCALENDAR