BEGIN:VCALENDAR
VERSION:2.0
PRODID:-//La Nef - ECPv6.15.11//NONSGML v1.0//EN
CALSCALE:GREGORIAN
METHOD:PUBLISH
X-ORIGINAL-URL:https://www.lanef.be
X-WR-CALDESC:Events for La Nef
REFRESH-INTERVAL;VALUE=DURATION:PT1H
X-Robots-Tag:noindex
X-PUBLISHED-TTL:PT1H
BEGIN:VTIMEZONE
TZID:Europe/Brussels
BEGIN:DAYLIGHT
TZOFFSETFROM:+0100
TZOFFSETTO:+0200
TZNAME:CEST
DTSTART:20220327T010000
END:DAYLIGHT
BEGIN:STANDARD
TZOFFSETFROM:+0200
TZOFFSETTO:+0100
TZNAME:CET
DTSTART:20221030T010000
END:STANDARD
BEGIN:DAYLIGHT
TZOFFSETFROM:+0100
TZOFFSETTO:+0200
TZNAME:CEST
DTSTART:20230326T010000
END:DAYLIGHT
BEGIN:STANDARD
TZOFFSETFROM:+0200
TZOFFSETTO:+0100
TZNAME:CET
DTSTART:20231029T010000
END:STANDARD
BEGIN:DAYLIGHT
TZOFFSETFROM:+0100
TZOFFSETTO:+0200
TZNAME:CEST
DTSTART:20240331T010000
END:DAYLIGHT
BEGIN:STANDARD
TZOFFSETFROM:+0200
TZOFFSETTO:+0100
TZNAME:CET
DTSTART:20241027T010000
END:STANDARD
END:VTIMEZONE
BEGIN:VEVENT
DTSTART;TZID=Europe/Brussels:20230519T183000
DTEND;TZID=Europe/Brussels:20230519T230000
DTSTAMP:20260424T010540
CREATED:20230501T081457Z
LAST-MODIFIED:20230519T095736Z
UID:7466-1684521000-1684537200@www.lanef.be
SUMMARY:Candlelight by Fever : Hommage à Ludovico Einaudi
DESCRIPTION:Candlelight\, c’est une expérience musicale magique reprenant de grands registres dans des magnifiques lieux éclairés à la bougie. Venez redécouvrir la musique de Ludovico Einaudi interprétée au piano à 4 mains ce vendredi 19 mai !
URL:https://www.lanef.be/event/candlelight-by-fever-hommage-a-ludovico-einaudi/
LOCATION:Namur
ATTACH;FMTTYPE=image/jpeg:https://www.lanef.be/wp-content/uploads/2023/05/Couverture-site-web-la-Nef.jpg
END:VEVENT
BEGIN:VEVENT
DTSTART;TZID=Europe/Brussels:20230527T203000
DTEND;TZID=Europe/Brussels:20230527T230000
DTSTAMP:20260424T010540
CREATED:20230327T132531Z
LAST-MODIFIED:20230512T093818Z
UID:7260-1685219400-1685228400@www.lanef.be
SUMMARY:Spectacle d'improvisation : Clash of Gods
DESCRIPTION:Les dieux et déesses grec.ques\, lassé.es de leurs interminables querelles\, ont choisi de déterminer les meilleur.es d’entre eux. Pour ce faire\, ce seront les OMG qui descendront dans l’arène ! Les dieux et déesses ont chacun.e choisi 3 champion.nes pour les représenter dans de terribles joutes d’improvisation théâtrale. Deux clans\, formés de deux membres des OMG et d’un.e invité.e se feront face pour défendre leurs couleurs\, en tentant d’emporter l’adhésion du public par leurs prouesses sur scène.Et quel meilleur lieu pour s’affronter entre dieux/déesses qu’une ancienne église? Ce seront vous\, les mortel.les\, qui déterminerez le vainqueur\, par vos votes ! \n\n\n\nCe spectacle d’improvisation théâtrale est proposé pour la première année\, dans le cadre d’un partenariat entre la Nef et les OMG. L’occasion de passer un excellent moment en famille ou entre ami.es\, de s’amuser\, d’être transporté.e par de belles histoires\, dans une superbe ambiance.
URL:https://www.lanef.be/event/spectacle-dimprovisation-clash-of-gods-2/
LOCATION:Namur
ATTACH;FMTTYPE=image/jpeg:https://www.lanef.be/wp-content/uploads/2023/03/Vente-en-ligne-2160x1080-20230527.jpg
END:VEVENT
END:VCALENDAR