BEGIN:VCALENDAR
VERSION:2.0
PRODID:-//La Nef - ECPv6.15.11//NONSGML v1.0//EN
CALSCALE:GREGORIAN
METHOD:PUBLISH
X-WR-CALNAME:La Nef
X-ORIGINAL-URL:https://www.lanef.be
X-WR-CALDESC:Events for La Nef
REFRESH-INTERVAL;VALUE=DURATION:PT1H
X-Robots-Tag:noindex
X-PUBLISHED-TTL:PT1H
BEGIN:VTIMEZONE
TZID:Europe/Brussels
BEGIN:DAYLIGHT
TZOFFSETFROM:+0100
TZOFFSETTO:+0200
TZNAME:CEST
DTSTART:20220327T010000
END:DAYLIGHT
BEGIN:STANDARD
TZOFFSETFROM:+0200
TZOFFSETTO:+0100
TZNAME:CET
DTSTART:20221030T010000
END:STANDARD
BEGIN:DAYLIGHT
TZOFFSETFROM:+0100
TZOFFSETTO:+0200
TZNAME:CEST
DTSTART:20230326T010000
END:DAYLIGHT
BEGIN:STANDARD
TZOFFSETFROM:+0200
TZOFFSETTO:+0100
TZNAME:CET
DTSTART:20231029T010000
END:STANDARD
BEGIN:DAYLIGHT
TZOFFSETFROM:+0100
TZOFFSETTO:+0200
TZNAME:CEST
DTSTART:20240331T010000
END:DAYLIGHT
BEGIN:STANDARD
TZOFFSETFROM:+0200
TZOFFSETTO:+0100
TZNAME:CET
DTSTART:20241027T010000
END:STANDARD
END:VTIMEZONE
BEGIN:VEVENT
DTSTART;TZID=Europe/Brussels:20230401T150000
DTEND;TZID=Europe/Brussels:20230401T170000
DTSTAMP:20260424T025231
CREATED:20230131T230833Z
LAST-MODIFIED:20230131T230904Z
UID:6931-1680361200-1680368400@www.lanef.be
SUMMARY:Challenge d’Eloquence Daniel L'Hoir
DESCRIPTION:Les 40 Molons sont heureux de vous annoncer le retour du Challenge d’Eloquence le 1er avril prochain (et ceci est un clin d’œil malicieux mais non un poisson du premier du mois). L’endroit choisi pour ce concours est le cadre prestigieux de la NEF\, située dans l’église désacralisée rue St Nicolas. \n\n\n\nDe nombreux lots récompenseront les lauréats et candidats. Le concours réunit des candidats de 8 à 15 ans\, qui déclameront une histoire\, un poème ou qui présenteront une saynète dans le but de faire rire ou émouvoir l’auditoire. Les prestations peuvent se faire en solo\, en duo ou à trois\, en français ou en wallon\, et dans un langage visant à ne blesser quiconque. \n\n\n\nInscriptions et Infos:ce.dellisse@yahoo.fr – Claude DELLISSE
URL:https://www.lanef.be/event/challenge-deloquence-daniel-lhoir-2/
LOCATION:Namur
ATTACH;FMTTYPE=image/jpeg:https://www.lanef.be/wp-content/uploads/2023/02/323903338_1195400284410559_4400557958737771879_n.jpg
END:VEVENT
BEGIN:VEVENT
DTSTART;TZID=Europe/Brussels:20230407T200000
DTEND;TZID=Europe/Brussels:20230407T230000
DTSTAMP:20260424T025231
CREATED:20230216T144353Z
LAST-MODIFIED:20230406T063006Z
UID:7072-1680897600-1680908400@www.lanef.be
SUMMARY:Abbey Road
DESCRIPTION:Le groupe Abbey Road\, c’est avant tout le groupe précurseur de cette vague sans cesse croissante de coverbands\, puisque sa création remonte à 1987 et son premier concert au 19 mars 1988 !!!On pourrait même dire que sur 32 années d’existence\, il a tout connu. Les petites salles (Du Piano Bar de Namur au « 66 » de Verviers..) et les grandes salles (du Cirque Royal\, du Forum au Flanders Expo…). \n\n\n\nIls seront présents à La Nef ce 7 avril. \n\n\n\nOuverture des portes à 19h\, représentation à 20h.  \n\n\n\nFormule repas \n\n\n\nLa formule repas propose un repas dans la salle avant le début de la représentation. Le repas est composé d’une entrée froide et d’un plat principal qui sera le même pour tout le monde.Une alternative pourra être proposée aux végétariens. \n\n\n\nLes boissons ne sont pas comprises dans le tarif. Pour cette formule vous êtes attendus à partir de 18h30.  \n\n\n\n \n\n\n\nUne production Beg’s event production
URL:https://www.lanef.be/event/abbey-road/
LOCATION:Namur
CATEGORIES:Musique
ATTACH;FMTTYPE=image/jpeg:https://www.lanef.be/wp-content/uploads/2023/02/BEP-abbey-road-photo-OFFICIAL1.jpg
END:VEVENT
BEGIN:VEVENT
DTSTART;TZID=Europe/Brussels:20230408T203000
DTEND;TZID=Europe/Brussels:20230408T230000
DTSTAMP:20260424T025231
CREATED:20230327T131616Z
LAST-MODIFIED:20230404T090321Z
UID:7258-1680985800-1680994800@www.lanef.be
SUMMARY:Spectacle d'improvisation : Clash of Gods
DESCRIPTION:Les dieux et déesses grec.ques\, lassé.es de leurs interminables querelles\, ont choisi de déterminer les meilleur.es d’entre eux. Pour ce faire\, ce seront les OMG qui descendront dans l’arène ! Les dieux et déesses ont chacun.e choisi 3 champion.nes pour les représenter dans de terribles joutes d’improvisation théâtrale. Deux clans\, formés de deux membres des OMG et d’un.e invité.e se feront face pour défendre leurs couleurs\, en tentant d’emporter l’adhésion du public par leurs prouesses sur scène.Et quel meilleur lieu pour s’affronter entre dieux/déesses qu’une ancienne église? Ce seront vous\, les mortel.les\, qui déterminerez le vainqueur\, par vos votes ! \n\n\n\nCe spectacle d’improvisation théâtrale est proposé pour la première année\, dans le cadre d’un partenariat entre la Nef et les OMG. L’occasion de passer un excellent moment en famille ou entre ami.es\, de s’amuser\, d’être transporté.e par de belles histoires\, dans la superbe ambiance de la Nef.Lien vers la billetterie:
URL:https://www.lanef.be/event/spectacle-dimprovisation-clash-of-gods/
LOCATION:Namur
ATTACH;FMTTYPE=image/jpeg:https://www.lanef.be/wp-content/uploads/2023/03/Vente-en-ligne-2160x1080-20230408.jpg
END:VEVENT
BEGIN:VEVENT
DTSTART;TZID=Europe/Brussels:20230414T200000
DTEND;TZID=Europe/Brussels:20230414T230000
DTSTAMP:20260424T025231
CREATED:20230102T130613Z
LAST-MODIFIED:20230102T130818Z
UID:6669-1681502400-1681513200@www.lanef.be
SUMMARY:Y'a d'la joie...bordel!
DESCRIPTION:Y’a d’la joie…bordel!\, La « Funférence »: un mélange subtil entre conférence et spectacle… Détente et joie sont les ingrédients qui constituent l’état naturel d’un être humain. Dès lors\, Il suffit de regarder autour de nous pour s’apercevoir que le monde est parti en sucette! Ce spectacle nous invite à prendre un peu de distance pour rire de nous et des comportements qui nous éloignent de la joie… Alors\, oserez-vous la joie…?! Venez assister à cette conférence-spectacle inédite! Un one-woman show hors du commun qui ne vous laissera pas indifférents ! « Le ton est léger\, mais le propos pertinent. Un show qui risque de vous réconcilier avec le développement personnel ou avec… les spectacles d’humour. C’est selon  » Gaël Magazine « Je ne m’attendais pas à ça\, je ne savais pas ce qui allait se passer\, je m’étais dit que c’était une conférence\, mais j’ai plus vu un spectacle\, j’ai adoré du début à la fin\, j’encourage ce genre de spectacle\, et ce genre de messages à transmettre…..[…] on rit\, on rit énormément\, on rit de nous-même… » Sylvie Honoré\, Journaliste RTBF\, La Vie du bon côté. « Une fois cette « one woman conférence show » passée\, il me reste tellement d’images et de pistes de réflexion qui m’animent encore ce matin et qui me donnent la pêche\, la banane quoi 🙂 » Spectacle d’humour interprété par la coach et comédienne Claude François Durée: 1h30
URL:https://www.lanef.be/event/ya-dla-joie-bordel/
LOCATION:Namur
CATEGORIES:Humour,Théâtre
ATTACH;FMTTYPE=image/png:https://www.lanef.be/wp-content/uploads/2023/01/1980x1020.png
END:VEVENT
BEGIN:VEVENT
DTSTART;TZID=Europe/Brussels:20230421T200000
DTEND;TZID=Europe/Brussels:20230422T230000
DTSTAMP:20260424T025231
CREATED:20221125T112700Z
LAST-MODIFIED:20230218T144341Z
UID:6537-1682107200-1682204400@www.lanef.be
SUMMARY:Goldman Confidentiel
DESCRIPTION:« Goldman Confidentiel »\, c’est l’univers de Jean-Jacques Goldman dans une version acoustique totalement inédite !Durant une heure trente\, ce trio vous fera découvrir ou redécouvrir le répertoire du chanteur préféré des français\, des grands standards aux morceaux plus intimistes grâce au savoir-faire de Christophe Celen\, Christophe Genette et Madeleine Jacques. \n\n\n\nBien plus qu’un concert\, ce trio vous plongera dans un spectacle INTERACTIF où le public du soir pourra contribuer et participer en sélectionnant les chansons interprétées ! \n\n\n\nÀ trois\, ils chantent\, ils jouent de plusieurs instruments\, s’amusent et plaisantent avec le public. Celui-ci est charmé\, épaté\, il en redemande… Chaque représentation fait l’unanimité\, même chez les fans les plus inconditionnels de l’artiste ! \n\n\n\nPrenez place\, détendez-vous\, on monte le son… Découvrez sans plus attendre le spectacle\, sans doute le plus personnel\, sur les chansons de Jean-Jacques Goldman… « Goldman Confidentiel »\, un moment exceptionnel en toute intimité ! \n\n\n\nGoldman Confidentiel est la version acoustique de GOLDMANMANIA \n\n\n\n \n\n\n\nLA SOIREE DU VENDREDI 21/4 EST SOLD OUT. Il reste des places pour le samedi.
URL:https://www.lanef.be/event/goldman-confidentiel-2/
LOCATION:Namur
CATEGORIES:Musique
ATTACH;FMTTYPE=image/jpeg:https://www.lanef.be/wp-content/uploads/2022/11/GC-1000x510-21avril2023-La-Nef.jpg
END:VEVENT
BEGIN:VEVENT
DTSTART;TZID=Europe/Brussels:20230429T200000
DTEND;TZID=Europe/Brussels:20230429T203000
DTSTAMP:20260424T025231
CREATED:20230216T145119Z
LAST-MODIFIED:20230411T044341Z
UID:7076-1682798400-1682800200@www.lanef.be
SUMMARY:John L + Reise Reise plays RAMMSTEIN
DESCRIPTION:Reise\, Reise (« voyage\, voyage »)\, c’est le nom du quatrième album du mythique groupe Rammstein\, sorti en 2004. C’est l’album d’un groupe au sommet de sa gloire\, en pleine possession de son talent. C’est aussi le nom qu’ont choisi leurs plus grands fans liégeois pour leur groupe entièrement dédié au son Rammstein. Du Metal pur et dur\, dans la droite tradition de la « Neue Deutsche Härte » (littéralement « Nouvelle dureté allemande »)\, bref du rock qui claque et qui va à l’essentiel\, au coeur de la musique en fusion. Il n’est décidément pas donné à tout le monde d’oser reprendre du Rammstein sur scène : Reise Reise y parvient et vous emporte ! \n\n\n\nAvec: Gaétan Symens (Vocal)\, Hugo Barcaro (Drum)\, Jean-Philippe Dirix (Bass)\, Adrien Paulauskas (Guitar)\, Nicolas Quici (Guitar) et Raphaël Ledent (Synths) \n\n\n\n\n\n\n\nEn première Partie John L . \n\n\n\nDepuis 2012 John L distille un pur Rock teinté d’une couleur Heavy. \n\n\n\nJohn L à déja deux albums à son actif\, Bring Me Home (2015) et Heavy Calling (2021). À la tête du trio qui porte son nom il enchaîne les concerts et assure des premières parties prestigieuses comme pour Uli Jon Roth (ex-Scorpions)\, Blaze Bayley (ex-Iron Maiden)\, Vinny Appice (ex-Black Sabbath\, Dio)\, Hooverphonic et bien d’autres encore. \n\n\n\nAvec plus 200 concerts à son actif (Belgique\, France\, Hollande\, Allemagne\, Luxembourg) préparé vous à passer une soirée bien Rock N’Roll. \n\n\n\nSortez votre veste en cuir John L est maintenant prêt à vous faire headbanguer !!! \n\n\n\n\n\n\n\nUne production Beg’s event production
URL:https://www.lanef.be/event/reise-reise-plays-rammstein/
LOCATION:Namur
CATEGORIES:Musique
ATTACH;FMTTYPE=image/jpeg:https://www.lanef.be/wp-content/uploads/2023/02/reisereise.jpg
END:VEVENT
END:VCALENDAR