BEGIN:VCALENDAR
VERSION:2.0
PRODID:-//La Nef - ECPv6.15.11//NONSGML v1.0//EN
CALSCALE:GREGORIAN
METHOD:PUBLISH
X-ORIGINAL-URL:https://www.lanef.be
X-WR-CALDESC:Events for La Nef
REFRESH-INTERVAL;VALUE=DURATION:PT1H
X-Robots-Tag:noindex
X-PUBLISHED-TTL:PT1H
BEGIN:VTIMEZONE
TZID:Europe/Brussels
BEGIN:DAYLIGHT
TZOFFSETFROM:+0100
TZOFFSETTO:+0200
TZNAME:CEST
DTSTART:20220327T010000
END:DAYLIGHT
BEGIN:STANDARD
TZOFFSETFROM:+0200
TZOFFSETTO:+0100
TZNAME:CET
DTSTART:20221030T010000
END:STANDARD
BEGIN:DAYLIGHT
TZOFFSETFROM:+0100
TZOFFSETTO:+0200
TZNAME:CEST
DTSTART:20230326T010000
END:DAYLIGHT
BEGIN:STANDARD
TZOFFSETFROM:+0200
TZOFFSETTO:+0100
TZNAME:CET
DTSTART:20231029T010000
END:STANDARD
BEGIN:DAYLIGHT
TZOFFSETFROM:+0100
TZOFFSETTO:+0200
TZNAME:CEST
DTSTART:20240331T010000
END:DAYLIGHT
BEGIN:STANDARD
TZOFFSETFROM:+0200
TZOFFSETTO:+0100
TZNAME:CET
DTSTART:20241027T010000
END:STANDARD
END:VTIMEZONE
BEGIN:VEVENT
DTSTART;TZID=Europe/Brussels:20230304T080000
DTEND;TZID=Europe/Brussels:20230304T170000
DTSTAMP:20260424T050020
CREATED:20230131T230325Z
LAST-MODIFIED:20230222T084010Z
UID:6928-1677916800-1677949200@www.lanef.be
SUMMARY:Vino Kilo
DESCRIPTION:LIVE THE VINOKILO EXPERIENCEHey vintage lovers\, Europe’s biggest vintage Kilo Sale is coming to Namur. Join us!___ \n\n\n\nWhat you can find at our events:– High quality vintage clothes sold per kilo– High-quality vintage with well-known brands from the 60s-00s– Sizes from XXS to Plus sizes– Rare & unique accessories like leather bags\, scarves\, belts etc.– New and exciting (green) collaborations in stunning venues– A business that cares about sustainability and environmental impact  \n\n\n\nYou’re not the first one to get in? Don’t worry! There will always be plenty of different garments and clothes to try on. We accept card payments ONLY. Our goal is to address sustainability in every possible way!Tickets
URL:https://www.lanef.be/event/vino-kilo/
LOCATION:Namur
CATEGORIES:Autre
ATTACH;FMTTYPE=image/jpeg:https://www.lanef.be/wp-content/uploads/2023/02/vinnokilo.jpg
END:VEVENT
BEGIN:VEVENT
DTSTART;TZID=Europe/Brussels:20230317T183000
DTEND;TZID=Europe/Brussels:20230317T230000
DTSTAMP:20260424T050020
CREATED:20230227T073124Z
LAST-MODIFIED:20230306T194909Z
UID:7134-1679077800-1679094000@www.lanef.be
SUMMARY:Spectacle Big Bang
DESCRIPTION:Quel impact nos comportements ont-ils sur nos rivières ? \n\n\n\nPièce de Théâtre pour adultes et enfants à partir de 10 ans.  \n\n\n\nDans le cadre des journées Wallones de l’eau  \n\n\n\n \n\n\n\n \n\n\n\n18h30: Ouverture des portes – *Bar ouvert19h30: Spectacle Big bang20h30 : Entracte *Bar ouvert20h45 : Echanges avec les experts \n\n\n\n \n\n\n\nAccès gratuit via inscription sur formulaire
URL:https://www.lanef.be/event/spectacle-big-bang/
LOCATION:Namur
CATEGORIES:Autre
ATTACH;FMTTYPE=image/jpeg:https://www.lanef.be/wp-content/uploads/2023/02/journee-eau-scaled.jpg
END:VEVENT
BEGIN:VEVENT
DTSTART;TZID=Europe/Brussels:20230318T200000
DTEND;TZID=Europe/Brussels:20230318T230000
DTSTAMP:20260424T050020
CREATED:20230228T143342Z
LAST-MODIFIED:20230303T100653Z
UID:7149-1679169600-1679180400@www.lanef.be
SUMMARY:Spectacle d'improvisation : Clash of Gods
DESCRIPTION:Les dieux et déesses grec.ques\, lassé.es de leurs interminables querelles\, ont choisi de déterminer les meilleur.es d’entre eux. Pour ce faire\, ce seront les OMG qui descendront dans l’arène ! Les dieux et déesses ont chacun.e choisi 3 champion.nes pour les représenter dans de terribles joutes d’improvisation théâtrale. Deux clans\, formés de deux membres des OMG et d’un.e invité.e se feront face pour défendre leurs couleurs\, en tentant d’emporter l’adhésion du public par leurs prouesses sur scène.Et quel meilleur lieu pour s’affronter entre dieux/déesses qu’une ancienne église? Ce seront vous\, les mortel.les\, qui déterminerez le vainqueur\, par vos votes ! \n\n\n\nCe spectacle d’improvisation théâtrale est proposé pour la première année\, dans le cadre d’un partenariat entre la Nef et les OMG. L’occasion de passer un excellent moment en famille ou entre ami.es\, de s’amuser\, d’être transporté.e par de belles histoires\, dans la superbe ambiance de la Nef.Lien vers la billetterie:
URL:https://www.lanef.be/event/spectacle-dimprovisation-clash-of-god/
LOCATION:Namur
CATEGORIES:Autre
ATTACH;FMTTYPE=image/jpeg:https://www.lanef.be/wp-content/uploads/2023/02/N_D-EcranPub.jpg
END:VEVENT
BEGIN:VEVENT
DTSTART;TZID=Europe/Brussels:20230323T200000
DTEND;TZID=Europe/Brussels:20230323T230000
DTSTAMP:20260424T050020
CREATED:20221005T142345Z
LAST-MODIFIED:20230102T131725Z
UID:6381-1679601600-1679612400@www.lanef.be
SUMMARY:Namur is a Joke 2023 - MORGANE CADIGNAN
DESCRIPTION:MORGANE CADIGNAN \n\n\n\nVous n’en avez pas marre de sortir de chez vous tous les jours avec votre costume de citoyen parfait ? Elle\, si ! \n\n\n\nA 30 ans\, Morgane se pose plein de questions sur la société et sa place dans un monde de plus en plus compliqué. \n\n\n\nEt toutes ces interrogations\, elle a souvent la flemme d’y répondre. Non parce que la pression\, ça va deux minutes. \n\n\n\nL’astrologie aussi ça va deux minutes. Ah oui\, et faut qu’on parle des gens qui dansent le Madison\, là-dessus on a un vrai problème. \n\n\n\nBon. Asseyez-vous. On va prendre un verre parce que ça risque de prendre un moment. On est combien ? On va prendre une bouteille du coup. \n\n\n\nMise en scène : Thierno Thioune
URL:https://www.lanef.be/event/namur-is-a-joke-2023-morgane-cadignan/
LOCATION:Namur
ATTACH;FMTTYPE=image/jpeg:https://www.lanef.be/wp-content/uploads/2022/10/VISUELS-LA-NEF-NIAJ-ANNONCE-2023-1920X1080-scaled.jpg
END:VEVENT
BEGIN:VEVENT
DTSTART;TZID=Europe/Brussels:20230324T200000
DTEND;TZID=Europe/Brussels:20230324T230000
DTSTAMP:20260424T050020
CREATED:20221005T142548Z
LAST-MODIFIED:20230102T131955Z
UID:6383-1679688000-1679698800@www.lanef.be
SUMMARY:Namur is a Joke 2023 - ZIDANI - MAMIE GEORGETTE EN MODE STAND-UP
DESCRIPTION:Mamie Georgette\, « déconfine » déjà depuis un moment. En effet depuis le décès de son mari Marcel (qu’on appelle Léon)\, qu’elle aimait tant\, Georgette vit son veuvage d’une manière bien différente de ce qu’on pourrait imaginer. Elle part en voyage à Pigalle\, découvre « le droit » d’avoir une carte bancaire\, fait des « strip poker » avec ses copines\, mais surtout elle écrit. Oui ! Georgette écrit un livre sur la place de la femme dans la chanson française. \n\n\n\nAlors si vous voulez tout savoir comment Georgette Plana a influencé Diams et le rap\, si vous voulez vivre un moment Rock Bal musette Kitsh Pop\, c’est le bon choix. Et « attention »\, avec Georgette\, t’es pas à l’abri d’une bonne surprise. Si l’une ou l’autre de ses copines serait disponible pour une soirée au château… \n\n\n\nMamie Georgette\, une sorte de carambolage génétique entre Georgette Plana et Mylène Farmer.
URL:https://www.lanef.be/event/namur-is-a-joke-2023-zidani-mamie-georgette-en-mode-stand-up/
LOCATION:Namur
ATTACH;FMTTYPE=image/jpeg:https://www.lanef.be/wp-content/uploads/2022/10/VISUELS-LA-NEF-NIAJ-ANNONCE-2023-1920X1080-scaled.jpg
END:VEVENT
BEGIN:VEVENT
DTSTART;TZID=Europe/Brussels:20230325T200000
DTEND;TZID=Europe/Brussels:20230325T230000
DTSTAMP:20260424T050020
CREATED:20221005T142704Z
LAST-MODIFIED:20230102T131949Z
UID:6385-1679774400-1679785200@www.lanef.be
SUMMARY:Namur is a Joke 2023 - OLDELAF & ARNAUD JOYET - TRAQUEURS DE NAZIS
DESCRIPTION:Tout public \n\n\n\n\n\n \n\n\n\nDe & Avec : Oldelaf et Arnaud Joyet \n\n\n\nAutre info importante : nous ne sommes pas vegans \n\n\n\nEn 1993\, Oldelaf et Arnaud Joyet\, aujourd’hui vedettes reconnues du monde de l’intermittence\, n’étaient encore que deux étudiants paumés en colocation. \n\n\n\nIls tombent un soir à la TV sur un reportage sur Serge et Beate Klarsfeld\, le couple qui a débusqué et traîné devant la justice les nazis Eichmann et Barbie\, au péril de leur propre vie. \n\n\n\nC’est le déclic. \n\n\n\nIls décident de reprendre le flambeau\, même si ça brûle. \n\n\n\nCette aventure les mènera en chanson et en bonne humeur de la bibliothèque du Perreux-sur-Marne à Bogota\, en passant par la forêt de Rambouillet ou un bowling\, et sertira leur amitié du sceau le plus noble : être Traqueurs de Nazis.
URL:https://www.lanef.be/event/namur-is-a-joke-2023-oldelaf-arnaud-joyet-traqueurs-de-nazis/
LOCATION:Namur
ATTACH;FMTTYPE=image/jpeg:https://www.lanef.be/wp-content/uploads/2022/10/VISUELS-LA-NEF-NIAJ-ANNONCE-2023-1920X1080-scaled.jpg
END:VEVENT
BEGIN:VEVENT
DTSTART;TZID=Europe/Brussels:20230326T160000
DTEND;TZID=Europe/Brussels:20230326T180000
DTSTAMP:20260424T050020
CREATED:20221005T142914Z
LAST-MODIFIED:20230102T131919Z
UID:6388-1679846400-1679853600@www.lanef.be
SUMMARY:Namur is a Joke 2023 - OKIDOK - SLIPS INSIDE
DESCRIPTION:Slips inside: un duo très culotté \n\n\n\nAvec une imagination débridée\, un esprit d’amusement sans limite\, ces artistes circassiens transgressent tous les codes Sigfrid et Emmanuel sont de vrais stars\, musclées\, du music-hall. L’un est filiforme\, avec de grosses lunettes et des yeux qui roulent férocement et attrapent l’attention des spectateurs\, le second est trapu\, et lui aussi cherche la connivence avec les gens assis sur les gradins\, marchant en roulant les épaules\, adoptant une démarche chaloupée à l’extrême que l’on croyait impossible à effectuer. Les deux lascars\, de Tournai (Belgique)\, sont tous deux -au début- en peignoir blanc au fond de la scène\, avant d’enlever ces atours. Ils ne parlent pas. \n\n\n\nLeur langage sont leurs numéros étonnant -aux mouvements défiants les traditions des équilibristes- leurs mimiques redoutables. Leur parfaite connaissance l’un de l’autre leur permet une grande finesse d’action\, des postures inconnues\, des gags inénarrables\, où l’imprévu est la matière essentielle. L’art de la voltige est avec eux une reconstruction complète tandis que leurs trouvailles artistiques avec onomatopées et exercices effectués le corps dénudé sont irrésistibles. Ils ne sont pas là pour se livrer un duel; c’est du flanc. Ils sont compères en jeux en tous genres\, comiques en surprises\, en spécialistes du non-sens physique. Ces zigotos\, fanfarons de fortune\, potaches en délires ravageurs\, nous emmènent dans des chemins inexplorés où l’esbrouffe\, l’esquive\, l’incohérence sont les données brutes qu’ils travaillent avec un art consommé de l’invention foldingue. Athlètes vif-argent rebelles à la logique universelle\, ces deux hommes -qui ont déjà connu un énorme succès en 2002 avec « Ha Ha Ha » au théâtre des Doms »- donnent le spectacle le plus décalé d’Avignon et le plus douloureux pour les zygomatiques.
URL:https://www.lanef.be/event/namur-is-a-joke-2023-okidok-slips-inside/
LOCATION:Namur
ATTACH;FMTTYPE=image/jpeg:https://www.lanef.be/wp-content/uploads/2022/10/VISUELS-LA-NEF-NIAJ-ANNONCE-2023-1920X1080-scaled.jpg
END:VEVENT
BEGIN:VEVENT
DTSTART;TZID=Europe/Brussels:20230331T200000
DTEND;TZID=Europe/Brussels:20230331T230000
DTSTAMP:20260424T050020
CREATED:20221219T083609Z
LAST-MODIFIED:20230102T131529Z
UID:6620-1680292800-1680303600@www.lanef.be
SUMMARY:Sarah Grosjean
DESCRIPTION:Bonjour\, je vais vous présenter mon tout premier « seul en scène »… »Glam\, Lose & Gaspacho »\, que j’aurais pu aussi très bien appeler « Raquette\, paillettes & Paella ». En espérant qu’il vous plaira. Bisous. Sarah
URL:https://www.lanef.be/event/sarah-grosjean/
LOCATION:Namur
ATTACH;FMTTYPE=image/jpeg:https://www.lanef.be/wp-content/uploads/2022/12/sarah-Grosjean-2.jpg
END:VEVENT
END:VCALENDAR