BEGIN:VCALENDAR
VERSION:2.0
PRODID:-//La Nef - ECPv6.15.11//NONSGML v1.0//EN
CALSCALE:GREGORIAN
METHOD:PUBLISH
X-ORIGINAL-URL:https://www.lanef.be
X-WR-CALDESC:Events for La Nef
REFRESH-INTERVAL;VALUE=DURATION:PT1H
X-Robots-Tag:noindex
X-PUBLISHED-TTL:PT1H
BEGIN:VTIMEZONE
TZID:Europe/Brussels
BEGIN:DAYLIGHT
TZOFFSETFROM:+0100
TZOFFSETTO:+0200
TZNAME:CEST
DTSTART:20220327T010000
END:DAYLIGHT
BEGIN:STANDARD
TZOFFSETFROM:+0200
TZOFFSETTO:+0100
TZNAME:CET
DTSTART:20221030T010000
END:STANDARD
BEGIN:DAYLIGHT
TZOFFSETFROM:+0100
TZOFFSETTO:+0200
TZNAME:CEST
DTSTART:20230326T010000
END:DAYLIGHT
BEGIN:STANDARD
TZOFFSETFROM:+0200
TZOFFSETTO:+0100
TZNAME:CET
DTSTART:20231029T010000
END:STANDARD
BEGIN:DAYLIGHT
TZOFFSETFROM:+0100
TZOFFSETTO:+0200
TZNAME:CEST
DTSTART:20240331T010000
END:DAYLIGHT
BEGIN:STANDARD
TZOFFSETFROM:+0200
TZOFFSETTO:+0100
TZNAME:CET
DTSTART:20241027T010000
END:STANDARD
END:VTIMEZONE
BEGIN:VEVENT
DTSTART;TZID=Europe/Brussels:20230202T200000
DTEND;TZID=Europe/Brussels:20230217T200000
DTSTAMP:20260424T064347
CREATED:20221109T134124Z
LAST-MODIFIED:20230206T141349Z
UID:6487-1675368000-1676664000@www.lanef.be
SUMMARY:Irrévérencieux
DESCRIPTION:UN PROJET UN PEU FOU DANS UN LIEU AMBITIEUX\n\n\n\nLe spectacle  » Irrévérencieux »se jouera du 02 au 17 février 2023 à La Nef de Namur. Nous rirons ensemble d’une thématique que nous évitons souvent: la mort\, voire notre mort. Chacun d’entre nous a déjà pensé à son propre enterrement. Qui sera là\, qui dira quoi ? \n\n\n\nIrrévérencieux nous fera entrer dans la famille Morin et leur entreprise de pompes funèbres depuis trois générations : « Infinity Sleep ». \n\n\n\n« Laissez-vous tenter\, on ne meurt qu’une fois ! Ne soyez pas radin face à la mort\, soignez l’image que vous laisserez après votre dernière sortie… » \n\n\n\nDécouvrez une cérémonie sur mesure\, complètement délirante\, faites nous confiance\, et venez découvrir la Famille Morin.  \n\n\n\nUn spectacle musical aussi\, drôle\, cocasse\, qui nous permettra d’égratigner au passage le marché pour le moins lucratif de la mort\, mais surtout d’en rire de bon coeur. \n\n\n\nLaisser une place à la liberté créative juste pour le plaisir\, le plaisir de rassembler un public dans un lieu de culte désacralisé\, et l’emporter avec nous dans une douce folie hilarante. \n\n\n\nLe rire aura une place de choix dans ce spectacle vous l’aurez compris\, spectacle qui mêlera la mort et la vie pour profiter d’un moment partagé ensemble\, un moment doux et léger\, et à mourir de rire. \n\n\n\nRire a toujours été un moyen privilégié chez moi pour s’acoquiner avec les turpitudes de la vie\, pour calmer les orages et les colères\, pour adoucir le chagrin. Et dans un climat parfois un peu morose\, le rire souffre de ne pas toujours trouver une place de choix dans les programmations. \n\n\n\n«  Production de DC&J CREATION » \n\n\n\n« Avec le soutien du Tax Shelter du Gouvernement Fédéral de Belgique et d’INVER Tax Shelter »
URL:https://www.lanef.be/event/irreverencieux/
LOCATION:Namur
ATTACH;FMTTYPE=image/jpeg:https://www.lanef.be/wp-content/uploads/2022/11/irreverencieux-16X92-scaled.jpg
END:VEVENT
BEGIN:VEVENT
DTSTART;TZID=Europe/Brussels:20230218T200000
DTEND;TZID=Europe/Brussels:20230218T230000
DTSTAMP:20260424T064347
CREATED:20220930T110435Z
LAST-MODIFIED:20221109T135455Z
UID:6369-1676750400-1676761200@www.lanef.be
SUMMARY:Meskerem Mees
DESCRIPTION:Panama Le Belvédère et La Nef présentent Meskerem Mees en concert à La Nef.  \n\n\n\nVéritable révélation de ces derniers mois tant en Belgique qu’à l’étranger\, la chanteuse gantoise Meskerem Mees\, 22 ans à peine\, a sorti fin 2021 son premier album intitulé “Julius”\, acclamé par la critique ! Un son folk-pop à la douceur confondante et une voix si tendre et si sincère qu’elle vous aspire littéralement dans son univers poétique à souhait ! Après Esperanzah\, Hâte de la voir vous faire frissonner à La Nef
URL:https://www.lanef.be/event/meskerem-mees/
LOCATION:Namur
ATTACH;FMTTYPE=image/jpeg:https://www.lanef.be/wp-content/uploads/2022/09/Meskerem-Mees.jpg
END:VEVENT
END:VCALENDAR