BEGIN:VCALENDAR
VERSION:2.0
PRODID:-//La Nef - ECPv6.15.11//NONSGML v1.0//EN
CALSCALE:GREGORIAN
METHOD:PUBLISH
X-WR-CALNAME:La Nef
X-ORIGINAL-URL:https://www.lanef.be
X-WR-CALDESC:Events for La Nef
REFRESH-INTERVAL;VALUE=DURATION:PT1H
X-Robots-Tag:noindex
X-PUBLISHED-TTL:PT1H
BEGIN:VTIMEZONE
TZID:Europe/Brussels
BEGIN:DAYLIGHT
TZOFFSETFROM:+0100
TZOFFSETTO:+0200
TZNAME:CEST
DTSTART:20210328T010000
END:DAYLIGHT
BEGIN:STANDARD
TZOFFSETFROM:+0200
TZOFFSETTO:+0100
TZNAME:CET
DTSTART:20211031T010000
END:STANDARD
BEGIN:DAYLIGHT
TZOFFSETFROM:+0100
TZOFFSETTO:+0200
TZNAME:CEST
DTSTART:20220327T010000
END:DAYLIGHT
BEGIN:STANDARD
TZOFFSETFROM:+0200
TZOFFSETTO:+0100
TZNAME:CET
DTSTART:20221030T010000
END:STANDARD
BEGIN:DAYLIGHT
TZOFFSETFROM:+0100
TZOFFSETTO:+0200
TZNAME:CEST
DTSTART:20230326T010000
END:DAYLIGHT
BEGIN:STANDARD
TZOFFSETFROM:+0200
TZOFFSETTO:+0100
TZNAME:CET
DTSTART:20231029T010000
END:STANDARD
END:VTIMEZONE
BEGIN:VEVENT
DTSTART;TZID=Europe/Brussels:20221203T200000
DTEND;TZID=Europe/Brussels:20221203T223000
DTSTAMP:20260424T111442
CREATED:20220627T200844Z
LAST-MODIFIED:20220920T131028Z
UID:6219-1670097600-1670106600@www.lanef.be
SUMMARY:Jane Døe (reporté)
DESCRIPTION:!!!!!!!EVENEMENT REPORTE!!!!!!!! \n\n\n\n \n\n\n\nJane Døe en concert à La Nef.  \n\n\n\nJane Døe sort « Big Bam Boum » grandement accueilli par les radios. Le Band enregistre avec Charles De Schutter au studio Rec’n Roll de Bruxelles et plante le décor avec un clip psyché empreint de magie\, malgré un texte sombre marié aux particularités mentales des troubles de la réalité. \n\n\n\nEn réponse à son premier titre\, le Band prend de l’accélération et écrit dans la foulée le single Who you are et un album de six titres qu’il enregistre au Koko Records studio de Liège. \n\n\n\nL’album Artifact est un recueil philosophique. Les textes émergeant de l’énergie générée par les petites morts dans la vie\, Jane Døe habille les émotions de ce qui se vit au coeur de la fin. Sa musique s’allonge le long des côtes nordiques\, remontant le courant par des rifs rock et électriques\, guidée par un chant signé d’une fragilité d’enfant conteur de songes. Ses accords inspirés du vent\, sont soutenus par une batterie détaillée et des basses rondes et profondes.Dans son voyage couleur glacier\, le Band allume un feu au coin d’une ruelle hispanique. Il célèbre la peur\, balaie les masques et se dirige tout droit vers la congruence. \n\n\n\nA l’automne 21\, son single « Jack Of Hearts » renverse les boussoles avec ses personnages sortis tout droit d’une Commedia Dell’Arte. \n\n\n\n« Leur ombre dessine des champs de guerre brûlés\, leur histoire\, un écho du temps cherchant son chemin dans l’obscurité. Ils s’exhaussent des lumières du passé\, marchandent les souvenirs d’une nature oubliée. » \n\n\n\nBientôt plus de détails sur le concert. Tickets disponibles.
URL:https://www.lanef.be/event/jane-doe/
LOCATION:Namur
CATEGORIES:Musique
ATTACH;FMTTYPE=image/jpeg:https://www.lanef.be/wp-content/uploads/2022/06/janedoe.jpg
END:VEVENT
BEGIN:VEVENT
DTSTART;TZID=Europe/Brussels:20221203T200000
DTEND;TZID=Europe/Brussels:20221203T230000
DTSTAMP:20260424T111442
CREATED:20220930T103836Z
LAST-MODIFIED:20220930T103837Z
UID:6363-1670097600-1670108400@www.lanef.be
SUMMARY:The Rise and Fall of Ziggy Stardust par Laurent Rieppi et The Diamond Dogs
DESCRIPTION:« The Rise and Fall of Ziggy Stardust and the Spiders from Mars »\, souvent abrégé en Ziggy Stardust\, est le cinquième album de David Bowie sorti en 1972.L’album atteignit la cinquième place des charts au Royaume-Uni et la 75e au Billboard. En 2006\, le magazine Time l’inclut dans sa sélection des 100 plus grands albums de tous les temps. Dans le classement des 500 meilleurs albums de tous les temps établi par le magazine Rolling Stone l’album est classé trente-cinquième.Il s’agit d’un concept album à la trame assez vague. Bowie y incarne Ziggy Stardust\, star androgyne du futur\, accompagné par les Spiders from Mars\, groupe composé du guitariste Mick Ronson\, du bassiste Trevor Bolder et du batteur Mick Woodmansey. À noter la présence de Rick Wakeman au clavecin électrique pour la pièce It ain’t easy. (wikipedia) \n\n\n\nLaurent Rieppi revient sur la genèse de cet album légendaire. \n\n\n\nEnsuite\, THE DIAMONDS DOGSwww.thediamonddogs.beinterprèteront l’entièreté de l’album\, dans l’ordre. Ensuite\, un best of Bowie. \n\n\n\nLaurent Rieppi est un écrivain\, chroniqueur et journaliste de la radio pop-rock belge Classic 21. Auteur de « David Bowie : de A à Z » (2013)\, de « Lou Reed : on the Wild Side » (2014) et de « We Will Rock You : Queen de A à Z » avec Antoine Binamé\, il a programmé\, rédigé et dirigé les chroniques Making-of pour Marc Ysaye pendant plus de dix ans\, il a ainsi co-signé avec ce dernier plusieurs ouvrages consacrés à la réalisation des plus grands albums de l’histoire du rock et a remporté avec lui en 2010 le Grand Prix des radios francophones publiques catégorie « format court ».Spécialiste du rock et riche d’une expérience de près de 20 ans dans les médias\, il a eu l’occasion de rencontrer et de côtoyer de nombreux artistes clefs de grandes formations musicales telles que Queen\, Pink Floyd\, Deep Purple\, Rolling Stones\, The Police\, Genesis\, Foo Fighters ainsi que des artistes tels que Joe Cocker\, Leonard Cohen\, Marianne Faithfull\, Nick Cave…Depuis 2013\, il propose de nombreuses conférences sur l’histoire du rock et ses artistes principaux en Wallonie et à Bruxelles. 
URL:https://www.lanef.be/event/the-rise-and-fall-of-ziggy-stardust-par-laurent-rieppi-et-the-diamond-dogs/
LOCATION:Namur
ATTACH;FMTTYPE=image/jpeg:https://www.lanef.be/wp-content/uploads/2022/09/308598655_177090018173727_5345903127692422320_n.jpg
END:VEVENT
END:VCALENDAR