BEGIN:VCALENDAR
VERSION:2.0
PRODID:-//La Nef - ECPv6.15.11//NONSGML v1.0//EN
CALSCALE:GREGORIAN
METHOD:PUBLISH
X-WR-CALNAME:La Nef
X-ORIGINAL-URL:https://www.lanef.be
X-WR-CALDESC:Events for La Nef
REFRESH-INTERVAL;VALUE=DURATION:PT1H
X-Robots-Tag:noindex
X-PUBLISHED-TTL:PT1H
BEGIN:VTIMEZONE
TZID:Europe/Brussels
BEGIN:DAYLIGHT
TZOFFSETFROM:+0100
TZOFFSETTO:+0200
TZNAME:CEST
DTSTART:20210328T010000
END:DAYLIGHT
BEGIN:STANDARD
TZOFFSETFROM:+0200
TZOFFSETTO:+0100
TZNAME:CET
DTSTART:20211031T010000
END:STANDARD
BEGIN:DAYLIGHT
TZOFFSETFROM:+0100
TZOFFSETTO:+0200
TZNAME:CEST
DTSTART:20220327T010000
END:DAYLIGHT
BEGIN:STANDARD
TZOFFSETFROM:+0200
TZOFFSETTO:+0100
TZNAME:CET
DTSTART:20221030T010000
END:STANDARD
BEGIN:DAYLIGHT
TZOFFSETFROM:+0100
TZOFFSETTO:+0200
TZNAME:CEST
DTSTART:20230326T010000
END:DAYLIGHT
BEGIN:STANDARD
TZOFFSETFROM:+0200
TZOFFSETTO:+0100
TZNAME:CET
DTSTART:20231029T010000
END:STANDARD
END:VTIMEZONE
BEGIN:VEVENT
DTSTART;TZID=Europe/Brussels:20220903T190000
DTEND;TZID=Europe/Brussels:20220903T220000
DTSTAMP:20260424T160421
CREATED:20220518T094740Z
LAST-MODIFIED:20220627T203247Z
UID:6030-1662231600-1662242400@www.lanef.be
SUMMARY:Freddy Tougaux
DESCRIPTION:FREDDY Tougaux « Hein ! » \n\n\n\n \n\n\n\nFreddy Tougaux sera le 3 septembre à La Nef à Namur pour son spectacle « Hein ! » (prononcez Heille !). Tickets en vente à partir du lundi 23 mai \n\n\n\n« Hein ! »… Mais c’est pas un titre de spectacle ça!C’est une interjection\, une ponctuation !Exactement\, ce show c’est trois points de suspension.Un moment particulier en apesanteur que le public partage avec Freddy.Il ne devait pas exister ce spectacle\, mais il est apparu comme une turgescence sauvage émerge dans le humus fertile de la spontanéité.Pendant les périodes compliquées de ces deux dernières années\, il a fallu trouver d’autres formes pour se produire sur scène\, créer\, recréer l’espace scénique. \n\n\n\nEt ainsi des textes\, des situations sont nés de ces nouvelles formes et ont donné naissance à « HEIN ! »C’est du Freddy en toute liberté qui lâche les brides du cheval fougueux de son enthousiasme.En grand écart\, il passe aussi virevoltemment\, d’une analyse pointue de la conjecture actuelle sans cesse en évolution à la réinterprétation très personnelle des Grands Classiques de la Chanson française.C’est pas un spectacle à voir\, c’est un spectacle à vivre !« HEIN ! » de et par Freddy Tougaux
URL:https://www.lanef.be/event/freddy-tougaux/
LOCATION:Namur
CATEGORIES:Humour,Théâtre
ATTACH;FMTTYPE=image/png:https://www.lanef.be/wp-content/uploads/2022/05/Freddy1920x1080.png
END:VEVENT
BEGIN:VEVENT
DTSTART;TZID=Europe/Brussels:20220908T200000
DTEND;TZID=Europe/Brussels:20220909T230000
DTSTAMP:20260424T160421
CREATED:20220330T201511Z
LAST-MODIFIED:20220726T123406Z
UID:5956-1662667200-1662764400@www.lanef.be
SUMMARY:GOTAINER ramène sa phrase
DESCRIPTION:Créateur infatigable et toujours inspiré (réécoutez son splendide album « Saperlipopette (or not Saperlipopette »\, sorti voilà trois ans)\, le créateur du « Sampa »\, du « Youki »\, de « Belle des champs » et autres perles a toujours tenté de ne pas se répéter et de (se) surprendre. \n\n\n\nVoilà quelques années\, il avait même créé une comédie musicale …en solo et en alexandrins modernes « La goutte au pépère » dont il jouait lui-même les neuf personnages\, féminins et masculins. \n\n\n\nIl nous revient avec une proposition inédite : celle consistant à interpréter sur scène une vingtaine de ses textes les plus croustillants\, connus ou moins connus (oreilles chastes s’abstenir)\, présentés dans leur plus simple appareil\, déshabillés de leurs mélodies\, de les réinventer et leur insuffler une dimension presque théâtrale. Pas de chansons chantées mais de la musique quand même. \n\n\n\nS’il joue donc ses textes plutôt qu’il ne les chante\, la folie et la musique sont au rendez-vous quand même\, avec la présence d’un musicien\, guitariste virtuose qui illustre le propos et lui sert de complice. Il sera\, semble-t-il\, le premier auteur-chanteur de renom à tenter une telle expérience. \n\n\n\nDe quoi enfin repartir sur les routes avec un spectacle léger et tout-terrain et de jouer dans des lieux plus intimistes. Avec « la Nef » parmi les toutes premières escales. \n\n\n\nRichard\, cela fait si longtemps qu’on t’attendait ! \n\n\n\nUn événement Benzine Prod & La Nef
URL:https://www.lanef.be/event/gotainer-ramene-sa-phrase/
LOCATION:Namur
ATTACH;FMTTYPE=image/png:https://www.lanef.be/wp-content/uploads/2018/04/slider.png
END:VEVENT
BEGIN:VEVENT
DTSTART;TZID=Europe/Brussels:20220910T200000
DTEND;TZID=Europe/Brussels:20220910T230000
DTSTAMP:20260424T160421
CREATED:20220608T084226Z
LAST-MODIFIED:20220721T151003Z
UID:6155-1662840000-1662850800@www.lanef.be
SUMMARY:André Brasseur
DESCRIPTION:Les Ponts Spalaux et la Nef s’échauffent avant les Fêtes de Wallonie avec un concert d’André Brasseur\, claviériste et organiste namurois\, auteur du tube planétaire Early Bird et Gaillarde d’argent 2017 ! \n\n\n\nAndré Brasseur et son orgue sont mythiques. Propulsés dans les années 60 par un Early Bird\, devenu succès mondial vendu à des millions d’exemplaires\, ils n’ont jamais arrêté de partager le fruit de leur connivence créative. Des fêtes de village à la scène du Pukkelpop\, André Brasseur semble animé d’une jeunesse éternelle. Ses mains alertes\, infatigables\, taquinent toujours avec ferveur son clavier groovy devenu légendaire. Une légende namuroise à (re)découvrir. \n\n\n\n \n\n\n\n \n\n\n\nIntro avec David Mennessier : André son œuvre en quelques minutesConcert d’André seul avec son orgueAfter concert avec Mydatah et Curver en duo VJ/DJ pour un hommage visuel exclusif à André Brasseur.
URL:https://www.lanef.be/event/andre-brasseur/
LOCATION:Namur
CATEGORIES:Musique
ATTACH;FMTTYPE=image/png:https://www.lanef.be/wp-content/uploads/2022/06/AndreeBrasseur_1920x1080.png
END:VEVENT
BEGIN:VEVENT
DTSTART;TZID=Europe/Brussels:20220923T200000
DTEND;TZID=Europe/Brussels:20220923T230000
DTSTAMP:20260424T160421
CREATED:20220513T070320Z
LAST-MODIFIED:20220613T091622Z
UID:6027-1663963200-1663974000@www.lanef.be
SUMMARY:Goldman Confidentiel
DESCRIPTION:Goldman Confidentiel\n\n\n\n« Goldman Confidentiel »\, c’est l’univers de Jean-Jacques Goldman dans une version acoustique totalement inédite !Durant une heure trente\, ce trio vous fera découvrir ou redécouvrir le répertoire du chanteur préféré des français\, des grands standards aux morceaux plus intimistes grâce au savoir-faire de Christophe Celen\, Christophe Genette et Madeleine Jacques. \n\n\n\nBien plus qu’un concert\, ce trio vous plongera dans un spectacle INTERACTIF où le public du soir pourra contribuer et participer en sélectionnant les chansons interprétées ! \n\n\n\nÀ trois\, ils chantent\, ils jouent de plusieurs instruments\, s’amusent et plaisantent avec le public. Celui-ci est charmé\, épaté\, il en redemande… Chaque représentation fait l’unanimité\, même chez les fans les plus inconditionnels de l’artiste ! \n\n\n\nPrenez place\, détendez-vous\, on monte le son… Découvrez sans plus attendre le spectacle\, sans doute le plus personnel\, sur les chansons de Jean-Jacques Goldman… « Goldman Confidentiel »\, un moment exceptionnel en toute intimité ! \n\n\n\nGoldman Confidentiel est la version acoustique de GOLDMANMANIA
URL:https://www.lanef.be/event/goldman-confidentiel/
LOCATION:Namur
CATEGORIES:Musique
ATTACH;FMTTYPE=image/png:https://www.lanef.be/wp-content/uploads/2022/05/Goldman1920x1080.png
END:VEVENT
BEGIN:VEVENT
DTSTART;TZID=Europe/Brussels:20220930T080000
DTEND;TZID=Europe/Brussels:20221007T170000
DTSTAMP:20260424T160421
CREATED:20220625T133849Z
LAST-MODIFIED:20231011T145113Z
UID:6201-1664524800-1665162000@www.lanef.be
SUMMARY:Festival International du Film Francophone de Namur  FIFF
DESCRIPTION:Le Festival International du Film Francophone de Namur prends ses quartier à La Nef pour toute la durée du Festival. Retrouvez-y le quartier général\, le bar du Festival \, les événements et soirées. Vous aurez l’occasion d’y côtoyer les nombreux invités du festival . \n\n\n\nDes DJ Sets tous les soirs pour mettre l’ambiance !Dès 23h\, plusieurs artistes viendront rythmer votre soirée : Jurassik Mark\, DJ Gaz & Mc Ginette\, Olvo\, Niko Platane\, DJ Double You et bien d’autres.
URL:https://www.lanef.be/event/festival-international-du-film-francophone-de-namur-fiff/
LOCATION:La Nef\, 2 rue saint-Nicolas\, NAMUR\, Namur\, 5000\, Belgium
CATEGORIES:Evenement
ATTACH;FMTTYPE=image/jpeg:https://www.lanef.be/wp-content/uploads/2022/06/Fiff.jpg
END:VEVENT
END:VCALENDAR