BEGIN:VCALENDAR
VERSION:2.0
PRODID:-//La Nef - ECPv6.15.11//NONSGML v1.0//EN
CALSCALE:GREGORIAN
METHOD:PUBLISH
X-ORIGINAL-URL:https://www.lanef.be
X-WR-CALDESC:Events for La Nef
REFRESH-INTERVAL;VALUE=DURATION:PT1H
X-Robots-Tag:noindex
X-PUBLISHED-TTL:PT1H
BEGIN:VTIMEZONE
TZID:Europe/Brussels
BEGIN:DAYLIGHT
TZOFFSETFROM:+0100
TZOFFSETTO:+0200
TZNAME:CEST
DTSTART:20210328T010000
END:DAYLIGHT
BEGIN:STANDARD
TZOFFSETFROM:+0200
TZOFFSETTO:+0100
TZNAME:CET
DTSTART:20211031T010000
END:STANDARD
BEGIN:DAYLIGHT
TZOFFSETFROM:+0100
TZOFFSETTO:+0200
TZNAME:CEST
DTSTART:20220327T010000
END:DAYLIGHT
BEGIN:STANDARD
TZOFFSETFROM:+0200
TZOFFSETTO:+0100
TZNAME:CET
DTSTART:20221030T010000
END:STANDARD
BEGIN:DAYLIGHT
TZOFFSETFROM:+0100
TZOFFSETTO:+0200
TZNAME:CEST
DTSTART:20230326T010000
END:DAYLIGHT
BEGIN:STANDARD
TZOFFSETFROM:+0200
TZOFFSETTO:+0100
TZNAME:CET
DTSTART:20231029T010000
END:STANDARD
END:VTIMEZONE
BEGIN:VEVENT
DTSTART;TZID=Europe/Brussels:20220423T100000
DTEND;TZID=Europe/Brussels:20220501T180000
DTSTAMP:20260424T205324
CREATED:20220214T142655Z
LAST-MODIFIED:20220313T064618Z
UID:5774-1650708000-1651428000@www.lanef.be
SUMMARY:Maison des Géants
DESCRIPTION:À la Maison des géants\, explorez un logement du point de vue d’un jeune enfant. Vous découvrirez ainsi les astuces permettant de limiter les risques d’accidents domestiques. Déambulez dans notre maison reconstituée en 3x son volume. Visitez-la en réalité augmentée. Venez vivre des situations en réalité virtuelle… Une expérience unique\, ludique et instructive. Ne manquez pas son passage près de chez vous ! \n\n\n\nLa maison des Géants c’est se mettre à la place des enfants\, c’est comprendre mieux ce qu’on voit à hauteur de leurs yeux\, la taille et le poids d’une bouteille d’eau dans leur main\, la hauteur d’une marche d’escalier. \n\n\n\nGrâce à cette expérience immersive destinée aux adultes\, visitez non seulement une maison agrandie trois fois mais découvrez aussi les dangers et les conseils de prévention grâce aux toutes dernières technologies de réalité virtuelle et de réalité augmentée. \n\n\n\n \n\n\n\nVous pourrez parcourir la Maison\, accompagné(e) d’un audioguide ou choisir la tablette afin de vivre des expériences complémentaires en réalité augmentée. Attention : il est indispensable de réserver vos tickets à l’avance sur ce site ! \n\n\n\n\n\n\n\n \n\n\n\n \n\n\n\nAttention :  \n\n\n\nLa maison des géants se visite  partir de 12 ans. Garderie pour les enfants de moins de 12 ans le mercredi après-midi\, le week-end et les jours fériés.  \n\n\n\nPossibilité d’acheter des billets sur place pour les séances non complètesLe bar de La Nef est ouvert durant toutes les représentations
URL:https://www.lanef.be/event/maison-des-geants/
LOCATION:Namur
ATTACH;FMTTYPE=image/jpeg:https://www.lanef.be/wp-content/uploads/2022/02/FIyrz8pBxWIq06b11Fb0I6GCBmoQj3mziuLt2fhx-scaled.jpg
END:VEVENT
BEGIN:VEVENT
DTSTART;TZID=Europe/Brussels:20220506T200000
DTEND;TZID=Europe/Brussels:20220507T200000
DTSTAMP:20260424T205324
CREATED:20220318T124408Z
LAST-MODIFIED:20220331T202337Z
UID:5868-1651867200-1651953600@www.lanef.be
SUMMARY:Jazz Night - Greg Houben
DESCRIPTION:Greg Houben sera l’invité exceptionnel de la première édition de la Jazz Night à la Nef.  \n\n\n\nAutour du trompettiste\, un piano à qui l’on raconte la légende de Chet Baker\, Louis Armstrong\, John Coltrane\, … raisonnera dans la fantastique ambiance de La Nef.  \n\n\n\nAu piano\, Pascal Mohy et Greg partageront leur répertoire comme ils collaborent déjà en studio et sur d’autres scènes.  \n\n\n\nLe premier set de la soirée présente en duo Julien Wathelet et Greg au rythme du Jazz. Un(e) invité surprise sera parmi les artistes.
URL:https://www.lanef.be/event/jazz-night-greg-houben/
LOCATION:Namur
CATEGORIES:Musique
ATTACH;FMTTYPE=image/jpeg:https://www.lanef.be/wp-content/uploads/2022/03/JazzNight_ND_EcranPub_1920x1080.jpg
END:VEVENT
BEGIN:VEVENT
DTSTART;TZID=Europe/Brussels:20220512T200000
DTEND;TZID=Europe/Brussels:20220512T220000
DTSTAMP:20260424T205324
CREATED:20211206T212837Z
LAST-MODIFIED:20220411T200805Z
UID:5401-1652385600-1652392800@www.lanef.be
SUMMARY:Nicolas Lacroix
DESCRIPTION:Nicolas a 25 ans. Originaire de Namur\, il rêve de planches depuis tout petit. Il avait le choix entre la scène et la menuiserie mais il n’a jamais été très doué en travaux manuels…\nRepéré sur l’application Tik Tok pendant le confinement\, il accumule aujourd’hui près d’un million d’abonnés ! Très vite\, il devient chroniqueur sur Vivacité dans «Les enfants de chœurs»\, puis sur TIPIK en radio et en télévision\, notamment dans l’émission «L’internet Show».L’été dernier\, il a réalisé sa première expérience cinématographique en interprétant « Le petit prodige » dans le court-métrage de Xavier Diskeuve.Les réseaux sociaux\, le cinéma\, la télé\, la radio\, rien ne l’arrête quand il s’agit de mettre un peu de légèreté dans notre quotidien. Il se lance aujourd’hui dans son tout premier one man show\, parce que sur les réseaux c’est bien\, mais en vrai\, c’est mieux !
URL:https://www.lanef.be/event/nicolaslacroix/
LOCATION:La Nef\, 2 rue saint-Nicolas\, NAMUR\, Namur\, 5000\, Belgium
CATEGORIES:Humour,Théâtre
ATTACH;FMTTYPE=image/jpeg:https://www.lanef.be/wp-content/uploads/2021/12/NICOLASLACROIX_WEB.jpg
END:VEVENT
BEGIN:VEVENT
DTSTART;TZID=Europe/Brussels:20220514T110000
DTEND;TZID=Europe/Brussels:20220514T190000
DTSTAMP:20260424T205324
CREATED:20220313T065924Z
LAST-MODIFIED:20230302T132510Z
UID:5854-1652526000-1652554800@www.lanef.be
SUMMARY:Namur en Choeurs
DESCRIPTION:Festival Namur en Choeur  \n\n\n\n \n\n\n\nSamedi 14 mai de 13h30 à 18h00\, succession de concerts gratuits de 30 minutes donnés successivement par 8 chorales. \n\n\n\n \n\n\n\nDimanche 15 mai : concert de musique baroque donné à 17h00 par Le Petit Chœur d’Ath sous le thème de Schütz à Bach. Il sera accompagné par quelques musiciens spécialisés dans ce type de musique. Pour plus d’informations vous pouvez découvrir ce chœur suivant le lien: http://www.petitchoeurdath.sitew.com/
URL:https://www.lanef.be/event/namur-en-choeur/
LOCATION:Namur
CATEGORIES:Classique
ATTACH;FMTTYPE=image/jpeg:https://www.lanef.be/wp-content/uploads/2018/04/namur-en-choeur-logo2.jpg
END:VEVENT
BEGIN:VEVENT
DTSTART;TZID=Europe/Brussels:20220515T110000
DTEND;TZID=Europe/Brussels:20220515T190000
DTSTAMP:20260424T205324
CREATED:20220313T065924Z
LAST-MODIFIED:20230302T133000Z
UID:5857-1652612400-1652641200@www.lanef.be
SUMMARY:Namur en Choeurs
DESCRIPTION:Festival Namur en Choeur  \n\n\n\n \n\n\n\nSamedi 14 mai de 13h30 à 18h00\, succession de concerts gratuits de 30 minutes donnés successivement par 8 chorales. \n\n\n\n \n\n\n\nDimanche 15 mai : concert de musique baroque donné à 17h00 par Le Petit Chœur d’Ath sous le thème de Schütz à Bach. Il sera accompagné par quelques musiciens spécialisés dans ce type de musique. Pour plus d’informations vous pouvez découvrir ce chœur suivant le lien: http://www.petitchoeurdath.sitew.com/
URL:https://www.lanef.be/event/namur-en-choeur-2022-05-15/
LOCATION:Namur
CATEGORIES:Classique
ATTACH;FMTTYPE=image/jpeg:https://www.lanef.be/wp-content/uploads/2018/04/namur-en-choeur-logo2.jpg
END:VEVENT
END:VCALENDAR