BEGIN:VCALENDAR
VERSION:2.0
PRODID:-//La Nef - ECPv6.15.11//NONSGML v1.0//EN
CALSCALE:GREGORIAN
METHOD:PUBLISH
X-ORIGINAL-URL:https://www.lanef.be
X-WR-CALDESC:Events for La Nef
REFRESH-INTERVAL;VALUE=DURATION:PT1H
X-Robots-Tag:noindex
X-PUBLISHED-TTL:PT1H
BEGIN:VTIMEZONE
TZID:Europe/Brussels
BEGIN:DAYLIGHT
TZOFFSETFROM:+0100
TZOFFSETTO:+0200
TZNAME:CEST
DTSTART:20250330T010000
END:DAYLIGHT
BEGIN:STANDARD
TZOFFSETFROM:+0200
TZOFFSETTO:+0100
TZNAME:CET
DTSTART:20251026T010000
END:STANDARD
BEGIN:DAYLIGHT
TZOFFSETFROM:+0100
TZOFFSETTO:+0200
TZNAME:CEST
DTSTART:20260329T010000
END:DAYLIGHT
BEGIN:STANDARD
TZOFFSETFROM:+0200
TZOFFSETTO:+0100
TZNAME:CET
DTSTART:20261025T010000
END:STANDARD
BEGIN:DAYLIGHT
TZOFFSETFROM:+0100
TZOFFSETTO:+0200
TZNAME:CEST
DTSTART:20270328T010000
END:DAYLIGHT
BEGIN:STANDARD
TZOFFSETFROM:+0200
TZOFFSETTO:+0100
TZNAME:CET
DTSTART:20271031T010000
END:STANDARD
END:VTIMEZONE
BEGIN:VEVENT
DTSTART;TZID=Europe/Brussels:20261015T200000
DTEND;TZID=Europe/Brussels:20261015T223000
DTSTAMP:20260423T104416
CREATED:20260303T135605Z
LAST-MODIFIED:20260330T153134Z
UID:16091-1792094400-1792103400@www.lanef.be
SUMMARY:OURS (Charles Souchon) en concert
DESCRIPTION:OURS (alias Charles Souchon)\, fils d’Alain Souchon débarque en concert à La Nef pour une soirée placée sous le signe du partage et de la mélodie. Porté par son groove léger et sa plume si particulière\, le digne héritier de la lignée Souchon nous prouve que la poésie se danse aussi. Venez (re)découvrir ses titres phares et ses nouvelles pépites dans une ambiance chaleureuse et complice. \n\n\n\nSur scène\, il déploie un charme fou et une proximité rare avec son public. Entre tendresse et dérision\, il nous offre un spectacle lumineux où chaque chanson est une petite pépite de vie. Venez vivre l’expérience Ours en live ! » \n\n\n\n✨ Un concert à ne pas rater pour tous les amoureux de la belle chanson française !«  \n\n\n\n\n\n\n\nxr:d:DAFzY2yiQkY:31\,j:7047426091750640548\,t:24021317
URL:https://www.lanef.be/event/ours-souchon-en-concert/
LOCATION:La Nef\, 2 rue saint-Nicolas\, NAMUR\, Namur\, 5000\, Belgium
ATTACH;FMTTYPE=image/jpeg:https://www.lanef.be/wp-content/uploads/2026/03/ours-souchon-alain-pres-de-lille-colisee-roubaixjpg-scaled.jpg
ORGANIZER;CN="La Nef":MAILTO:info@lanef.be
END:VEVENT
BEGIN:VEVENT
DTSTART;TZID=Europe/Brussels:20261113T200000
DTEND;TZID=Europe/Brussels:20261113T223000
DTSTAMP:20260423T104416
CREATED:20260330T152038Z
LAST-MODIFIED:20260330T152316Z
UID:16289-1794600000-1794609000@www.lanef.be
SUMMARY:Charlélie Couture
DESCRIPTION:Artiste inclassable\, poète du rock\, Charlélie Couture ne donne pas simplement des concerts : il crée des instants suspendus\, où musique\, mots et sensations se mêlent avec intensité. \n\n\n\nSur scène\, son univers oscille entre blues\, rock\, jazz et poésie\, porté par une écriture lucide\, sensible et profondément humaine . \n\n\n\nDans ce lieu chargé d’histoire et de résonance qu’est La Nef\, l’expérience promet d’être unique. \n\n\n\nSa voix\, au timbre inimitable dans une atmosphère intime y trouvera une profondeur particulière. \n\n\n\nPlus qu’un concert\, c’est une rencontre. \n\n\n\nUn moment rare où l’on se laisse traverser par une musique habitée\, portée par un artiste libre\, authentique\, et toujours en mouvement.✨ Un rendez-vous à ne pas manquer.
URL:https://www.lanef.be/event/charlelie-couture/
LOCATION:La Nef\, 2 rue saint-Nicolas\, NAMUR\, Namur\, 5000\, Belgium
CATEGORIES:Musique
ATTACH;FMTTYPE=image/jpeg:https://www.lanef.be/wp-content/uploads/2026/03/1920x1080-Charlelie-.jpg
END:VEVENT
END:VCALENDAR