BEGIN:VCALENDAR
VERSION:2.0
PRODID:-//La Nef - ECPv6.15.11//NONSGML v1.0//EN
CALSCALE:GREGORIAN
METHOD:PUBLISH
X-WR-CALNAME:La Nef
X-ORIGINAL-URL:https://www.lanef.be
X-WR-CALDESC:Events for La Nef
REFRESH-INTERVAL;VALUE=DURATION:PT1H
X-Robots-Tag:noindex
X-PUBLISHED-TTL:PT1H
BEGIN:VTIMEZONE
TZID:Europe/Brussels
BEGIN:DAYLIGHT
TZOFFSETFROM:+0100
TZOFFSETTO:+0200
TZNAME:CEST
DTSTART:20240331T010000
END:DAYLIGHT
BEGIN:STANDARD
TZOFFSETFROM:+0200
TZOFFSETTO:+0100
TZNAME:CET
DTSTART:20241027T010000
END:STANDARD
BEGIN:DAYLIGHT
TZOFFSETFROM:+0100
TZOFFSETTO:+0200
TZNAME:CEST
DTSTART:20250330T010000
END:DAYLIGHT
BEGIN:STANDARD
TZOFFSETFROM:+0200
TZOFFSETTO:+0100
TZNAME:CET
DTSTART:20251026T010000
END:STANDARD
BEGIN:DAYLIGHT
TZOFFSETFROM:+0100
TZOFFSETTO:+0200
TZNAME:CEST
DTSTART:20260329T010000
END:DAYLIGHT
BEGIN:STANDARD
TZOFFSETFROM:+0200
TZOFFSETTO:+0100
TZNAME:CET
DTSTART:20261025T010000
END:STANDARD
END:VTIMEZONE
BEGIN:VEVENT
DTSTART;TZID=Europe/Brussels:20250314T190000
DTEND;TZID=Europe/Brussels:20250314T200000
DTSTAMP:20260422T222826
CREATED:20250211T083958Z
LAST-MODIFIED:20250211T084541Z
UID:12513-1741978800-1741982400@www.lanef.be
SUMMARY:Candlelight : Hommage à ABBA
DESCRIPTION:⭐ Candlelight\, c’est une expérience musicale magique dans de magnifiques lieux éclairés à la bougie. Achète tes billets dès maintenant pour ce concert Candlelight : Hommage à ABBA à Namur! \n\n\n\nInfos📍 Lieu : La Nef⏳ Durée du concert : 60 minutes environ. Les portes ouvrent 45 minutes avant le début du concert. Les retards ne seront pas permis👤 Âge requis : 8 ans et plus. Les personnes de moins de 16 ans doivent être accompagnées par un adulte♿ Accessibilité : accès PMR disponible pour cet événement en catégorie Premium\, A et B🪑 Les places sont assignées par ordre d’arrivée\, selon la catégorie réservée \n\n\n\nProgramme \n\n\n\nDancing Queen \n\n\n\nSOS \n\n\n\nMoney\, Money\, Money \n\n\n\nThe Winner Takes It All \n\n\n\nVoulez – Vous \n\n\n\nAngeleyes \n\n\n\nWaterloo \n\n\n\nFernando \n\n\n\nKnowing Me\, Knowing You \n\n\n\nChiquitita \n\n\n\nLay All Your Love On Me \n\n\n\nSuper Trouper \n\n\n\nMamma Mia \n\n\n\nArtistes \n\n\n\nPiano – Michelle Lynne
URL:https://www.lanef.be/event/candlelight-hommage-a-abba-4/
LOCATION:rue saint nicolas 2\, Rue Saint-Nicolas 2\, Namur\, 5000\, Belgium
ATTACH;FMTTYPE=image/jpeg:https://www.lanef.be/wp-content/uploads/2023/05/Couverture-site-web-la-Nef.jpg
ORGANIZER;CN="La Nef":MAILTO:info@lanef.be
END:VEVENT
BEGIN:VEVENT
DTSTART;TZID=Europe/Brussels:20250314T210000
DTEND;TZID=Europe/Brussels:20250314T220000
DTSTAMP:20260422T222826
CREATED:20250211T084412Z
LAST-MODIFIED:20250211T084413Z
UID:12515-1741986000-1741989600@www.lanef.be
SUMMARY:Candlelight : Hommage à Jean-Jacques Goldman
DESCRIPTION:⭐ Candlelight\, c’est une expérience musicale magique dans de magnifiques lieux éclairés à la bougie. Achète tes billets dès maintenant pour ce concert Candlelight : Hommage à Jean-Jacques Goldman à Namur ! \n\n\n\nInfos⏳ Durée du concert : 60 minutes environ. Les portes ouvrent 45 minutes avant le début du concert. Les retards ne seront pas permis👤 Âge requis : 8 ans et plus. Les personnes de moins de 16 ans doivent être accompagnées par un adulte♿ Accessibilité : accès PMR disponible pour cet événement–🪑 Les places sont assignées par ordre d’arrivée\, selon la catégorie réservée \n\n\n\nProgramme \n\n\n\nJe te donne \n\n\n\nPas toi \n\n\n\nComme toi \n\n\n\nNé en 17 \n\n\n\n4 mots sur un piano \n\n\n\nLà bas \n\n\n\nQuand la musique est bonne \n\n\n\nOn ira \n\n\n\nAu bout de mes rêves \n\n\n\nFamille \n\n\n\nVeiller tard \n\n\n\nPuisque tu pars \n\n\n\nIl changeait la vie \n\n\n\nArtistes \n\n\n\nPiano – Michelle Lynne
URL:https://www.lanef.be/event/candlelight-hommage-a-jean-jacques-goldman-4/
LOCATION:rue saint nicolas 2\, Rue Saint-Nicolas 2\, Namur\, 5000\, Belgium
ATTACH;FMTTYPE=image/jpeg:https://www.lanef.be/wp-content/uploads/2023/05/Couverture-site-web-la-Nef.jpg
ORGANIZER;CN="La Nef":MAILTO:info@lanef.be
END:VEVENT
END:VCALENDAR