BEGIN:VCALENDAR
VERSION:2.0
PRODID:-//La Nef - ECPv6.15.11//NONSGML v1.0//EN
CALSCALE:GREGORIAN
METHOD:PUBLISH
X-ORIGINAL-URL:https://www.lanef.be
X-WR-CALDESC:Events for La Nef
REFRESH-INTERVAL;VALUE=DURATION:PT1H
X-Robots-Tag:noindex
X-PUBLISHED-TTL:PT1H
BEGIN:VTIMEZONE
TZID:Europe/Brussels
BEGIN:DAYLIGHT
TZOFFSETFROM:+0100
TZOFFSETTO:+0200
TZNAME:CEST
DTSTART:20240331T010000
END:DAYLIGHT
BEGIN:STANDARD
TZOFFSETFROM:+0200
TZOFFSETTO:+0100
TZNAME:CET
DTSTART:20241027T010000
END:STANDARD
BEGIN:DAYLIGHT
TZOFFSETFROM:+0100
TZOFFSETTO:+0200
TZNAME:CEST
DTSTART:20250330T010000
END:DAYLIGHT
BEGIN:STANDARD
TZOFFSETFROM:+0200
TZOFFSETTO:+0100
TZNAME:CET
DTSTART:20251026T010000
END:STANDARD
BEGIN:DAYLIGHT
TZOFFSETFROM:+0100
TZOFFSETTO:+0200
TZNAME:CEST
DTSTART:20260329T010000
END:DAYLIGHT
BEGIN:STANDARD
TZOFFSETFROM:+0200
TZOFFSETTO:+0100
TZNAME:CET
DTSTART:20261025T010000
END:STANDARD
END:VTIMEZONE
BEGIN:VEVENT
DTSTART;TZID=Europe/Brussels:20250223T190000
DTEND;TZID=Europe/Brussels:20250223T200000
DTSTAMP:20260423T182402
CREATED:20241223T123305Z
LAST-MODIFIED:20241223T123306Z
UID:11987-1740337200-1740340800@www.lanef.be
SUMMARY:Candlelight : Hommage à Jean-Jacques Goldman
DESCRIPTION:⭐ Candlelight\, c’est une expérience musicale magique dans de magnifiques lieux éclairés à la bougie. Achète tes billets dès maintenant pour ce concert Candlelight : Hommage à Jean-Jacques Goldman à Namur ! \n\n\n\nInfos⏳ Durée du concert : 60 minutes environ. Les portes ouvrent 45 minutes avant le début du concert. Les retards ne seront pas permis👤 Âge requis : 8 ans et plus. Les personnes de moins de 16 ans doivent être accompagnées par un adulte♿ Accessibilité : accès PMR disponible pour cet événement en catégorie Premium\, A et B❓ Consulte la FAQ de cet événement ici🪑 Les places sont assignées par ordre d’arrivée\, selon la catégorie réservée🕯️ Si tu souhaites réserver un concert privé ou acheter des billets ordinaires pour un grand groupe (+30 personnes)\, clique iciProgramme \n\n\n\n\nJe te donne\n\n\n\nPas toi\n\n\n\nComme toi\n\n\n\nNé en 17\n\n\n\n4 mots sur un piano\n\n\n\nLà bas\n\n\n\nQuand la musique est bonne\n\n\n\nOn ira\n\n\n\nAu bout de mes rêves\n\n\n\nFamille\n\n\n\nVeiller tard\n\n\n\nPuisque tu pars\n\n\n\nIl changeait la vie\n\n\n\n\nArtistes \n\n\n\nPiano – Michelle Lynne
URL:https://www.lanef.be/event/candlelight-hommage-a-jean-jacques-goldman-3/
LOCATION:La Nef\, 2 rue saint-Nicolas\, NAMUR\, Namur\, 5000\, Belgium
CATEGORIES:Musique
ATTACH;FMTTYPE=image/jpeg:https://www.lanef.be/wp-content/uploads/2023/05/Couverture-site-web-la-Nef.jpg
END:VEVENT
BEGIN:VEVENT
DTSTART;TZID=Europe/Brussels:20250223T210000
DTEND;TZID=Europe/Brussels:20250223T220000
DTSTAMP:20260423T182402
CREATED:20241223T123417Z
LAST-MODIFIED:20241223T123419Z
UID:11989-1740344400-1740348000@www.lanef.be
SUMMARY:Candlelight : Hommage à ColdPlay
DESCRIPTION:⭐ Candlelight\, c’est une expérience musicale magique dans de magnifiques lieux éclairés à la bougie. Achète tes billets dès maintenant pour ce concert Candlelight : Coldplay VS Imagine Dragons à Namur!  \n\n\n\nInfos⏳ Durée du concert : 60 minutes environ. Les portes ouvrent 45 minutes avant le début du concert. Les retards ne seront pas permis👤 Âge requis : 8 ans et plus. Les personnes de moins de 16 ans doivent être accompagnées par un adulte♿ Accessibilité : accès PMR disponible pour cet événement en catégorie Premium\, A et B❓ Consulte la FAQ de cet événement ici🪑 Les places sont assignées par ordre d’arrivée\, selon la catégorie réservée🕯️ Si tu souhaites réserver un concert privé ou acheter des billets ordinaires pour un grand groupe (+30 personnes)\, clique iciProgrammProgramme \n\n\n\n\nClocks\n\n\n\nAdventure of a lifetime\n\n\n\nSpeed of sound\n\n\n\nTrouble\n\n\n\nYellow\n\n\n\nMy universe\n\n\n\nThe scientist\n\n\n\nParadise\n\n\n\nFix you\n\n\n\nSomething just like this\n\n\n\nSky full of stars\n\n\n\n\nArtistes \n\n\n\nQuatuor à cordes
URL:https://www.lanef.be/event/candlelight-hommage-a-coldplay/
LOCATION:La Nef\, 2 rue saint-Nicolas\, NAMUR\, Namur\, 5000\, Belgium
CATEGORIES:Musique
ATTACH;FMTTYPE=image/jpeg:https://www.lanef.be/wp-content/uploads/2023/05/Couverture-site-web-la-Nef.jpg
END:VEVENT
END:VCALENDAR