BEGIN:VCALENDAR
VERSION:2.0
PRODID:-//La Nef - ECPv6.15.11//NONSGML v1.0//EN
CALSCALE:GREGORIAN
METHOD:PUBLISH
X-WR-CALNAME:La Nef
X-ORIGINAL-URL:https://www.lanef.be
X-WR-CALDESC:Events for La Nef
REFRESH-INTERVAL;VALUE=DURATION:PT1H
X-Robots-Tag:noindex
X-PUBLISHED-TTL:PT1H
BEGIN:VTIMEZONE
TZID:Europe/Brussels
BEGIN:DAYLIGHT
TZOFFSETFROM:+0100
TZOFFSETTO:+0200
TZNAME:CEST
DTSTART:20240331T010000
END:DAYLIGHT
BEGIN:STANDARD
TZOFFSETFROM:+0200
TZOFFSETTO:+0100
TZNAME:CET
DTSTART:20241027T010000
END:STANDARD
BEGIN:DAYLIGHT
TZOFFSETFROM:+0100
TZOFFSETTO:+0200
TZNAME:CEST
DTSTART:20250330T010000
END:DAYLIGHT
BEGIN:STANDARD
TZOFFSETFROM:+0200
TZOFFSETTO:+0100
TZNAME:CET
DTSTART:20251026T010000
END:STANDARD
BEGIN:DAYLIGHT
TZOFFSETFROM:+0100
TZOFFSETTO:+0200
TZNAME:CEST
DTSTART:20260329T010000
END:DAYLIGHT
BEGIN:STANDARD
TZOFFSETFROM:+0200
TZOFFSETTO:+0100
TZNAME:CET
DTSTART:20261025T010000
END:STANDARD
END:VTIMEZONE
BEGIN:VEVENT
DTSTART;TZID=Europe/Brussels:20250115T190000
DTEND;TZID=Europe/Brussels:20250115T200000
DTSTAMP:20260423T194407
CREATED:20241223T122935Z
LAST-MODIFIED:20241223T122936Z
UID:11983-1736967600-1736971200@www.lanef.be
SUMMARY:Candle Light  Les 4 Saisons de Vivaldi
DESCRIPTION:⭐ Candlelight\, c’est une expérience musicale magique dans de magnifiques lieux éclairés à la bougie. Achète tes billets dès maintenant pour ce concert Candlelight : Les 4 Saisons de Vivaldi à Namur ! \n\n\n\nInfos⏳ Durée du concert : 60 minutes environ. Les portes ouvrent 45 minutes avant le début du concert. Les retards ne seront pas permis👤 Âge requis : 8 ans et plus. Les personnes de moins de 16 ans doivent être accompagnées par un adulte♿ Accessibilité : accès PMR disponible pour cet événement en catégorie Premium\, A et B❓ Consulte la FAQ de cet événement ici🪑 Les places sont assignées par ordre d’arrivée\, selon la catégorie réservée🕯️ Si tu souhaites réserver un concert privé ou acheter des billets ordinaires pour un grand groupe (+30 personnes)\, clique iciProgramme \n\n\n\nVivaldi – Concerto no 4 en fa mineur\, op. 8\, RV 297\, « L’inverno » (L’Hiver) \n\n\n\nVivaldi – Concerto no 1 en mi majeur\, op. 8\, RV 269\, « La primavera » (Le Printemps) \n\n\n\nVivaldi – Concerto no 2 en sol mineur\, op. 8\, RV 315\, « L’estate » (L’Été) \n\n\n\nVivaldi – Concerto no 3 en fa majeur\, op. 8\, RV 293\, « L’autunno » (L’Automne)
URL:https://www.lanef.be/event/candle-light-les-4-saisons-de-vivaldi-2/
LOCATION:La Nef\, 2 rue saint-Nicolas\, NAMUR\, Namur\, 5000\, Belgium
CATEGORIES:Musique
ATTACH;FMTTYPE=image/jpeg:https://www.lanef.be/wp-content/uploads/2023/05/Couverture-site-web-la-Nef.jpg
END:VEVENT
BEGIN:VEVENT
DTSTART;TZID=Europe/Brussels:20250115T210000
DTEND;TZID=Europe/Brussels:20250115T220000
DTSTAMP:20260423T194407
CREATED:20241223T123132Z
LAST-MODIFIED:20241223T123133Z
UID:11985-1736974800-1736978400@www.lanef.be
SUMMARY:Candlelight : Hommage à Jean-Jacques Goldman
DESCRIPTION:⭐ Candlelight\, c’est une expérience musicale magique dans de magnifiques lieux éclairés à la bougie. Achète tes billets dès maintenant pour ce concert Candlelight : Hommage à Jean-Jacques Goldman à Namur ! \n\n\n\nInfos⏳ Durée du concert : 60 minutes environ. Les portes ouvrent 45 minutes avant le début du concert. Les retards ne seront pas permis👤 Âge requis : 8 ans et plus. Les personnes de moins de 16 ans doivent être accompagnées par un adulte♿ Accessibilité : accès PMR disponible pour cet événement en catégorie Premium\, A et B❓ Consulte la FAQ de cet événement ici🪑 Les places sont assignées par ordre d’arrivée\, selon la catégorie réservée🕯️ Si tu souhaites réserver un concert privé ou acheter des billets ordinaires pour un grand groupe (+30 personnes)\, clique iciProgramme \n\n\n\n\nJe te donne\n\n\n\nPas toi\n\n\n\nComme toi\n\n\n\nNé en 17\n\n\n\n4 mots sur un piano\n\n\n\nLà bas\n\n\n\nQuand la musique est bonne\n\n\n\nOn ira\n\n\n\nAu bout de mes rêves\n\n\n\nFamille\n\n\n\nVeiller tard\n\n\n\nPuisque tu pars\n\n\n\nIl changeait la vie\n\n\n\n\nArtistes \n\n\n\nPiano – Michelle Lynne
URL:https://www.lanef.be/event/candlelight-hommage-a-jean-jacques-goldman-2/
LOCATION:La Nef\, 2 rue saint-Nicolas\, NAMUR\, Namur\, 5000\, Belgium
CATEGORIES:Musique
ATTACH;FMTTYPE=image/jpeg:https://www.lanef.be/wp-content/uploads/2023/05/Couverture-site-web-la-Nef.jpg
END:VEVENT
END:VCALENDAR