BEGIN:VCALENDAR
VERSION:2.0
PRODID:-//La Nef - ECPv6.15.11//NONSGML v1.0//EN
CALSCALE:GREGORIAN
METHOD:PUBLISH
X-ORIGINAL-URL:https://www.lanef.be
X-WR-CALDESC:Events for La Nef
REFRESH-INTERVAL;VALUE=DURATION:PT1H
X-Robots-Tag:noindex
X-PUBLISHED-TTL:PT1H
BEGIN:VTIMEZONE
TZID:Europe/Brussels
BEGIN:DAYLIGHT
TZOFFSETFROM:+0100
TZOFFSETTO:+0200
TZNAME:CEST
DTSTART:20230326T010000
END:DAYLIGHT
BEGIN:STANDARD
TZOFFSETFROM:+0200
TZOFFSETTO:+0100
TZNAME:CET
DTSTART:20231029T010000
END:STANDARD
BEGIN:DAYLIGHT
TZOFFSETFROM:+0100
TZOFFSETTO:+0200
TZNAME:CEST
DTSTART:20240331T010000
END:DAYLIGHT
BEGIN:STANDARD
TZOFFSETFROM:+0200
TZOFFSETTO:+0100
TZNAME:CET
DTSTART:20241027T010000
END:STANDARD
BEGIN:DAYLIGHT
TZOFFSETFROM:+0100
TZOFFSETTO:+0200
TZNAME:CEST
DTSTART:20250330T010000
END:DAYLIGHT
BEGIN:STANDARD
TZOFFSETFROM:+0200
TZOFFSETTO:+0100
TZNAME:CET
DTSTART:20251026T010000
END:STANDARD
END:VTIMEZONE
BEGIN:VEVENT
DTSTART;TZID=Europe/Brussels:20241230T190000
DTEND;TZID=Europe/Brussels:20241230T233000
DTSTAMP:20260423T194405
CREATED:20241126T111432Z
LAST-MODIFIED:20241217T090828Z
UID:11709-1735585200-1735601400@www.lanef.be
SUMMARY:Karaoke géant 3ème édition
DESCRIPTION:Après l’énorme succès de notre première édition\, nous sommes ravis de vous annoncer le retour tant attendu du Karaoké à La Nef ! Préparez-vous à une soirée inoubliale où vous pourrez laisser aller votre voix et vous éclater sur scène ! \n\n\n\n \n\n\n\nRejoignez-nous et venez interpréter vos morceaux sur une véritable scène ! \n\n\n\nPour pimenter cette soirée\, nous aurons l’honneur d’accueillir Nicolas Buysse\, qui animera la soirée avec son énergie débordante !  \n\n\n\nIl sera accompagné d’Henrique from Ibiza qui enflammera la scène . \n\n\n\nLaissez-vous emporter par la musique et l’ambiance électrique de La Nef ! Aors n’hésitez pas à inviter vos amis\, votre famille et tous les amateurs de karaoké ! \n\n\n\nVous ne voulez pas manquer ça ! On se voit sur la piste !  \n\n\n\nTarif place assise : 10\,00 €   \n\n\n\nTarif placement libre : gratuit  \n\n\n\nFormule Repas : 25\,00 € \n\n\n\nEntrée : burrata Straciatella tomates cerises pesto  \n\n\n\nPlat : tartiflette
URL:https://www.lanef.be/event/karaoke-geant-3eme-edition/
LOCATION:rue saint nicolas 2\, Rue Saint-Nicolas 2\, Namur\, 5000\, Belgium
ATTACH;FMTTYPE=image/jpeg:https://www.lanef.be/wp-content/uploads/2023/11/karaoke.jpg
END:VEVENT
END:VCALENDAR