BEGIN:VCALENDAR
VERSION:2.0
PRODID:-//La Nef - ECPv6.15.11//NONSGML v1.0//EN
CALSCALE:GREGORIAN
METHOD:PUBLISH
X-WR-CALNAME:La Nef
X-ORIGINAL-URL:https://www.lanef.be
X-WR-CALDESC:Events for La Nef
REFRESH-INTERVAL;VALUE=DURATION:PT1H
X-Robots-Tag:noindex
X-PUBLISHED-TTL:PT1H
BEGIN:VTIMEZONE
TZID:Europe/Brussels
BEGIN:DAYLIGHT
TZOFFSETFROM:+0100
TZOFFSETTO:+0200
TZNAME:CEST
DTSTART:20230326T010000
END:DAYLIGHT
BEGIN:STANDARD
TZOFFSETFROM:+0200
TZOFFSETTO:+0100
TZNAME:CET
DTSTART:20231029T010000
END:STANDARD
BEGIN:DAYLIGHT
TZOFFSETFROM:+0100
TZOFFSETTO:+0200
TZNAME:CEST
DTSTART:20240331T010000
END:DAYLIGHT
BEGIN:STANDARD
TZOFFSETFROM:+0200
TZOFFSETTO:+0100
TZNAME:CET
DTSTART:20241027T010000
END:STANDARD
BEGIN:DAYLIGHT
TZOFFSETFROM:+0100
TZOFFSETTO:+0200
TZNAME:CEST
DTSTART:20250330T010000
END:DAYLIGHT
BEGIN:STANDARD
TZOFFSETFROM:+0200
TZOFFSETTO:+0100
TZNAME:CET
DTSTART:20251026T010000
END:STANDARD
END:VTIMEZONE
BEGIN:VEVENT
DTSTART;TZID=Europe/Brussels:20241204T190000
DTEND;TZID=Europe/Brussels:20241228T203000
DTSTAMP:20260423T215650
CREATED:20241007T114857Z
LAST-MODIFIED:20241007T114948Z
UID:11326-1733338800-1735417800@www.lanef.be
SUMMARY:La Grande Visite de Fabrice Murgia et Nicolas Buysse
DESCRIPTION:Ce soir c’est « La Grande Visite » \,Deux Scientifiques\, spécialistes du hasard\, de l’imprévisibilité\, vous convient à une visite pas comme les autres. \n\n\n\nUne visite de l’inattendu\, une rencontre des petites scènes du quotidien imprévues\, égrenées au fil de leur parcours. Il n’y a pas de hasard dans les rencontres\, tel est leur credo. Ils vont provoquer le hasard pour partir à la découverte de petites séquences de vie. Pour faire naître la beauté d’être ensemble.Et prouvez « Qu’il n’y a pas de hasard\, il n’y a que des rendez-vous. » Comme le disait Paul Eluard. \n\n\n\nUne visite guidée du tout petit\, des petites âmes en errances \, parce que derrière chaque façade\, derrière chaque vitrine de restaurant\, derrière chaque porte d’appartement se joue la vraie vie\, l’humanité sans fard et qui nous ressemble tant. « Et qu’on aime quand même bien se rassurer en se disant que finalement on est pas les seuls… »Partons à la découverte de tous ces vivariums urbains qui nous entourent.D’ailleurs\, comme tout hasard qui se respecte\, « La Grande Visite » ne se passera sans doute pas comme prévu. Justement parce qu’on ne prévoit pas les rencontres impromptues et la vie qui s’égrène au coin de nos rues et ruelles. Un spectacle comme un long travelling cinéma qui révèlera la véritable richesse de Namur\, de ceux et celles qui y vivent et qui donnent ce cachet si particulier à notre belle cité.Elle ne se passera pas comme prévu car c’est sans compter sur la fulgurance poétique que peut provoquer une soirée unique\, où l’on prendra le temps de flâner\, de s’arrêter\, d’espionner et de méditer. Avec la vie que l’on croisera. Ou pas.Après le succès de Walking Thérapie et du Dernier Salut lors du Flow Winter 2023 \, le mois de décembre permettra à nouveau de déambuler dans les rues dans un road movie attachant et poétique ou chaque spectateurice sera équipé d’un casque audio sur les oreilles pour être en connivence intime avec les comédiens-ennes et musiciens .La Grande Visite\, la nouvelle production des Boîtes à Idées/Nicolas Buysse\, co-écrite avec Fabrice Murgia\, pour hurler ensemble et en rue sa joie de vivre\, chanter la beauté de notre ville\, et se laisser emporter par les rencontres impromptues. Sans oublier de rire\, beaucoup et très fort. Ecoutez…ça rit déjà Place de l’Ange.Une production des Boîtes à Idées/ Nicolas Buysse et de Charlie’s Factory/ Bertrand Loute.
URL:https://www.lanef.be/event/la-grande-visite-de-fabrice-murgia-et-nicolas-buysse/
LOCATION:La Nef\, 2 rue saint-Nicolas\, NAMUR\, Namur\, 5000\, Belgium
CATEGORIES:Théâtre
ATTACH;FMTTYPE=image/jpeg:https://www.lanef.be/wp-content/uploads/2024/10/lagrandevisite-16-9.jpg
END:VEVENT
END:VCALENDAR