BEGIN:VCALENDAR
VERSION:2.0
PRODID:-//La Nef - ECPv6.15.11//NONSGML v1.0//EN
CALSCALE:GREGORIAN
METHOD:PUBLISH
X-ORIGINAL-URL:https://www.lanef.be
X-WR-CALDESC:Events for La Nef
REFRESH-INTERVAL;VALUE=DURATION:PT1H
X-Robots-Tag:noindex
X-PUBLISHED-TTL:PT1H
BEGIN:VTIMEZONE
TZID:Europe/Brussels
BEGIN:DAYLIGHT
TZOFFSETFROM:+0100
TZOFFSETTO:+0200
TZNAME:CEST
DTSTART:20230326T010000
END:DAYLIGHT
BEGIN:STANDARD
TZOFFSETFROM:+0200
TZOFFSETTO:+0100
TZNAME:CET
DTSTART:20231029T010000
END:STANDARD
BEGIN:DAYLIGHT
TZOFFSETFROM:+0100
TZOFFSETTO:+0200
TZNAME:CEST
DTSTART:20240331T010000
END:DAYLIGHT
BEGIN:STANDARD
TZOFFSETFROM:+0200
TZOFFSETTO:+0100
TZNAME:CET
DTSTART:20241027T010000
END:STANDARD
BEGIN:DAYLIGHT
TZOFFSETFROM:+0100
TZOFFSETTO:+0200
TZNAME:CEST
DTSTART:20250330T010000
END:DAYLIGHT
BEGIN:STANDARD
TZOFFSETFROM:+0200
TZOFFSETTO:+0100
TZNAME:CET
DTSTART:20251026T010000
END:STANDARD
END:VTIMEZONE
BEGIN:VEVENT
DTSTART;TZID=Europe/Brussels:20241123T190000
DTEND;TZID=Europe/Brussels:20241123T230000
DTSTAMP:20260423T233739
CREATED:20230412T085549Z
LAST-MODIFIED:20240604T143934Z
UID:7381-1732388400-1732402800@www.lanef.be
SUMMARY:Mylène Farmer by XXL
DESCRIPTION:!! \n\n\n\n\n\n\n\n \n\n\n\nXXL\, c’est l’histoire de 4 musiciens de talent aux multiples références scéniques et d’une chanteuse incroyable qui vous emmènera dans l’univers sensible\, sexy et mystérieux de Mylène Farmer avec des arrangements 100% live de ses plus grands succès. A voir\, à revoir ou à découvrir… vous ne serez pas déçus du voyage. \n\n\n\nMaud Swinnen – Chant \n\n\n\nGeoffrey Leontiev – Batterie \n\n\n\nBruno Close – Claviers \n\n\n\nFranco Vecchio – Basse \n\n\n\nGaétan Mendolia – Guitare \n\n\n\n \n\n\n\nEvènement en collaboration avec Beg’s Event Prod.
URL:https://www.lanef.be/event/mylene-farmer-by-xxl-telephone-by-korange/
LOCATION:Namur
CATEGORIES:Musique
ATTACH;FMTTYPE=image/png:https://www.lanef.be/wp-content/uploads/2023/04/XXL-MYLENE-FARMER-1920x1080-1.png
END:VEVENT
END:VCALENDAR