BEGIN:VCALENDAR
VERSION:2.0
PRODID:-//La Nef - ECPv6.15.11//NONSGML v1.0//EN
CALSCALE:GREGORIAN
METHOD:PUBLISH
X-ORIGINAL-URL:https://www.lanef.be
X-WR-CALDESC:Events for La Nef
REFRESH-INTERVAL;VALUE=DURATION:PT1H
X-Robots-Tag:noindex
X-PUBLISHED-TTL:PT1H
BEGIN:VTIMEZONE
TZID:Europe/Brussels
BEGIN:DAYLIGHT
TZOFFSETFROM:+0100
TZOFFSETTO:+0200
TZNAME:CEST
DTSTART:20230326T010000
END:DAYLIGHT
BEGIN:STANDARD
TZOFFSETFROM:+0200
TZOFFSETTO:+0100
TZNAME:CET
DTSTART:20231029T010000
END:STANDARD
BEGIN:DAYLIGHT
TZOFFSETFROM:+0100
TZOFFSETTO:+0200
TZNAME:CEST
DTSTART:20240331T010000
END:DAYLIGHT
BEGIN:STANDARD
TZOFFSETFROM:+0200
TZOFFSETTO:+0100
TZNAME:CET
DTSTART:20241027T010000
END:STANDARD
BEGIN:DAYLIGHT
TZOFFSETFROM:+0100
TZOFFSETTO:+0200
TZNAME:CEST
DTSTART:20250330T010000
END:DAYLIGHT
BEGIN:STANDARD
TZOFFSETFROM:+0200
TZOFFSETTO:+0100
TZNAME:CET
DTSTART:20251026T010000
END:STANDARD
END:VTIMEZONE
BEGIN:VEVENT
DTSTART;TZID=Europe/Brussels:20240627T120000
DTEND;TZID=Europe/Brussels:20240627T220000
DTSTAMP:20260423T042255
CREATED:20240507T065514Z
LAST-MODIFIED:20240530T074022Z
UID:9828-1719489600-1719525600@www.lanef.be
SUMMARY:Break Day
DESCRIPTION:Journée de Break entre la fin des examens et le début des vacances . \n\n\n\nUne initiative du Service Jeunesse de la VIlle de Namur \n\n\n\nVenez vous ambiancer dans une église désacralisée . \n\n\n\n \n\n\n\nOn commence par un Concours de Jeunes Talents.  \n\n\n\nTu as du talent ? Tu rêves de fouler les planches d’une vraie salle de spectacle ? Alors ce concours est fait pour toi ! Viens performer le 27 Juin lors des jours blancs à La Nef ! Chant\, stand up\, numéro de cirque\, danse\, imitation\, play backs\, quelque soit votre talent\, venez l’exprimer sur la scène et sous les projecteurs de La Nef. De nombreux prix à gagner. \n\n\n\nFORMULAIRE D’INSCRIPTION CONCOURS DE TALENTS  \n\n\n\n. \n\n\n\nOn enchaine ensuite avec une soirée fluo\, venez habillé de couleurs fluos et dansez sur les sons de notre DJ.   \n\n\n\n. \n\n\n\nMais également de nombreuses activités\, animations et stands d’informations : \n\n\n\nEspace gaming dans le choeur de La Nef \n\n\n\nPhoto Booth \n\n\n\nFoodtrucks \n\n\n\n. \n\n\n\nLa présence des structures suivantes :Solidaris\, l’asbl Phoenix\,  Inforjeune\, l’Hennalux\, l’HEAJ\, UNamur. \n\n\n\n. \n\n\n\n\n\n\n\n12h : Ouverture des foodtrucks\n\n\n\n12h : Warm Up\n\n\n\n14h  : Concours Jeunes Talents\n\n\n\n16h00 : CHARLIE \n\n\n\n16h30 : ENOLA\n\n\n\n17h30 : Remise des Prix\n\n\n\n18h  : Soirée Fluo\n\n\n\n22h  : Fin de la soirée\n\n\n\nAttention\,  faire la fête signifie aussi respect de soi et des autres. Consommez de l’alcool de façon modérée et connaissez vos limites. 
URL:https://www.lanef.be/event/break-day/
LOCATION:La Nef\, 2 rue saint-Nicolas\, NAMUR\, Namur\, 5000\, Belgium
CATEGORIES:Autre
ATTACH;FMTTYPE=image/png:https://www.lanef.be/wp-content/uploads/2024/05/1920-x1080-BREAKDAY.png
END:VEVENT
BEGIN:VEVENT
DTSTART;TZID=Europe/Brussels:20240627T123000
DTEND;TZID=Europe/Brussels:20240702T220000
DTSTAMP:20260423T042255
CREATED:20240514T060620Z
LAST-MODIFIED:20240522T071158Z
UID:9889-1719491400-1719957600@www.lanef.be
SUMMARY:Espace gaming
DESCRIPTION:Le choeur de La Nef se transforme pour les Jours Blancs en un espace gaming.  \n\n\n\nDes bornes de jeu  seront réparties à plusieurs endroits. Mais un grand écran vous permettra également de jouer en groupe. \n\n\n\nUne initiative du Service Jeunesse de la VIlle de Namur
URL:https://www.lanef.be/event/espace-gaming/
LOCATION:La Nef\, 2 rue saint-Nicolas\, NAMUR\, Namur\, 5000\, Belgium
CATEGORIES:Autre
ATTACH;FMTTYPE=image/png:https://www.lanef.be/wp-content/uploads/2024/05/1920-x1080-BREAKDAY.png
END:VEVENT
BEGIN:VEVENT
DTSTART;TZID=Europe/Brussels:20240627T133000
DTEND;TZID=Europe/Brussels:20240627T143000
DTSTAMP:20260423T042255
CREATED:20240503T031538Z
LAST-MODIFIED:20240522T071115Z
UID:9870-1719495000-1719498600@www.lanef.be
SUMMARY:Concours Jeunes talents
DESCRIPTION:Tu as du talent ? Tu rêves de fouler les planches d’une vraie salle de spectacle ? Alors ce concours est fait pour toi !  \n\n\n\nViens performer le 27 Juin lors des jours blancs à La Nef ! \n\n\n\nComment ça marche ?Remplis simplement notre formulaire d’inscription pour enregistrer ta participation ou celle de ton groupe. Toutes les formes de talents sont les bienvenues : musique\, danse\, comédie\, arts visuels\, playback\, …Les participants sélectionnés auront la chance de performer sur la scène de La Nef\, une salle de spectacle à Namur\, devant un public enthousiaste de jeunes comme toi ! Les 3 meilleures performances reçoivent un prix !Comment Participer ? \n\n\n\n\nRemplis le formulaire d’inscription pour enregistrer la participation. Précises bien si tu es seul ou en groupe.FORMULAIRE D’INSCRIPTION CONCOURS JEUNES TALENTS\n\n\n\nUne fois inscrit\, tu recevras à la fin de la clôture des inscriptions\, un mail de validation de ta performance sur scène. \n\n\n\n\n \n\n\n\nLes 3 meilleures performances seront sélectionnées par notre jury. Les gagnants seront annoncés lors de la remise des prix en fin de journée. Le concours suivra d’une soirée avec concerts\, donc restes bien jusqu’au bout !  Montre-nous ce dont tu es capable et laisses ton éclat illuminer La Nef ! 🌟 \n\n\n\nUne initiative du Service Jeunesse de la VIlle de Namur
URL:https://www.lanef.be/event/concours-jeunes-talents/
LOCATION:La Nef\, 2 rue saint-Nicolas\, NAMUR\, Namur\, 5000\, Belgium
CATEGORIES:Autre
ATTACH;FMTTYPE=image/png:https://www.lanef.be/wp-content/uploads/2024/05/1920-x1080-BREAKDAY.png
END:VEVENT
BEGIN:VEVENT
DTSTART;TZID=Europe/Brussels:20240627T160000
DTEND;TZID=Europe/Brussels:20240627T170000
DTSTAMP:20260423T042255
CREATED:20240514T060511Z
LAST-MODIFIED:20240522T071041Z
UID:9886-1719504000-1719507600@www.lanef.be
SUMMARY:CHARLIE - ENOLA
DESCRIPTION:ENOLA \n\n\n\nLa chanteuse Enola continue d’évoluer malgré la fin de l’émission The Voice Belgique présentée par la RTBF et prend son envol par la sortie de son premier single Never asked for u\, qui a atteint 2 489 auditeurs sur Spotify en quelques mois. \n\n\n\nEnola partage ses futurs projets\, elle qui annonçait il y a cinq mois maintenant la sortie de son premier single Never asked for u\, présent sur toutes les plateformes de streaming. \n\n\n\nEtudiante à l’IMEP de Namur\, la chanteuse a trouvé l’inspiration durant ses cours. « Quand j’ai commencé à écrire cette chanson\, je m’ennuyais un peu et en griffonnant\, les mots me sont venus. Je suis allée directement chez un ami pour enregistrer la chanson ». \n\n\n\nElle sera présente à La Nef pour vous faire écouter ses sons. \n\n\n\nCHARLIE \n\n\n\nCharlie est une artiste luxembourgeoise qui suit des études de chant pop à Namur depuis 3 ans. Dans ses compositions elle réunit son amour pour la musique pop et la comédie musicale avec son expérience de chanteuse en choeur pour travailler surtout sur la polyphonie des harmonies dans un style pop-folk alternatif.
URL:https://www.lanef.be/event/charlie-enola/
LOCATION:La Nef\, 2 rue saint-Nicolas\, NAMUR\, Namur\, 5000\, Belgium
CATEGORIES:Musique
ATTACH;FMTTYPE=image/png:https://www.lanef.be/wp-content/uploads/2024/05/1920-x1080-BREAKDAY.png
END:VEVENT
BEGIN:VEVENT
DTSTART;TZID=Europe/Brussels:20240627T170000
DTEND;TZID=Europe/Brussels:20240627T220000
DTSTAMP:20260423T042255
CREATED:20240503T033141Z
LAST-MODIFIED:20240522T130437Z
UID:9879-1719507600-1719525600@www.lanef.be
SUMMARY:Soirée Fluo
DESCRIPTION:Une initiative du Service Jeunesse de la VIlle de Namur \n\n\n\nPlusieurs Dj se succéderont sur la scène de La Nef pour vous faire danser sur les sons d’hier et d’aujourd’huy. \n\n\n\nLe thème : FLUO \n\n\n\nHabillez vous avec du FLuo et les néons de La Nef feront ressortir vos couleurs.  \n\n\n\nLaissez libre cours à vos talents artistiques pour vous déguiser et être le plus original.
URL:https://www.lanef.be/event/soiree-fluo/
LOCATION:La Nef\, 2 rue saint-Nicolas\, NAMUR\, Namur\, 5000\, Belgium
CATEGORIES:Autre
ATTACH;FMTTYPE=image/png:https://www.lanef.be/wp-content/uploads/2024/05/1920-x1080-BREAKDAY.png
END:VEVENT
END:VCALENDAR