BEGIN:VCALENDAR
VERSION:2.0
PRODID:-//La Nef - ECPv6.15.11//NONSGML v1.0//EN
CALSCALE:GREGORIAN
METHOD:PUBLISH
X-ORIGINAL-URL:https://www.lanef.be
X-WR-CALDESC:Events for La Nef
REFRESH-INTERVAL;VALUE=DURATION:PT1H
X-Robots-Tag:noindex
X-PUBLISHED-TTL:PT1H
BEGIN:VTIMEZONE
TZID:Europe/Brussels
BEGIN:DAYLIGHT
TZOFFSETFROM:+0100
TZOFFSETTO:+0200
TZNAME:CEST
DTSTART:20230326T010000
END:DAYLIGHT
BEGIN:STANDARD
TZOFFSETFROM:+0200
TZOFFSETTO:+0100
TZNAME:CET
DTSTART:20231029T010000
END:STANDARD
BEGIN:DAYLIGHT
TZOFFSETFROM:+0100
TZOFFSETTO:+0200
TZNAME:CEST
DTSTART:20240331T010000
END:DAYLIGHT
BEGIN:STANDARD
TZOFFSETFROM:+0200
TZOFFSETTO:+0100
TZNAME:CET
DTSTART:20241027T010000
END:STANDARD
BEGIN:DAYLIGHT
TZOFFSETFROM:+0100
TZOFFSETTO:+0200
TZNAME:CEST
DTSTART:20250330T010000
END:DAYLIGHT
BEGIN:STANDARD
TZOFFSETFROM:+0200
TZOFFSETTO:+0100
TZNAME:CET
DTSTART:20251026T010000
END:STANDARD
END:VTIMEZONE
BEGIN:VEVENT
DTSTART;TZID=Europe/Brussels:20240621T190000
DTEND;TZID=Europe/Brussels:20240621T233000
DTSTAMP:20260423T042837
CREATED:20240502T111048Z
LAST-MODIFIED:20240522T071323Z
UID:9808-1718996400-1719012600@www.lanef.be
SUMMARY:Fête de la Musique - DORIA D + MARVETT
DESCRIPTION:Zone Namur et La Fête de la musique présentent à La Nef dans la parcours Musique à tous les Etages \n\n\n\n \n\n\n\n \n\n\n\nUn double concert dans le parcours « Musiques à tous les étages » de la Fête de la Musique à Namur\, en collaboration avec l’asbl ZoneNamur et destiné à la génération Z mais pas que … \n\n\n\nCo- plateau à La NEF en formule acoustique de DORIA D et MARVETT le vendredi 21 juin à 20h00 :  \n\n\n\n► DORIA D \n\n\n\nhttps://www.facebook.com/DoriaDmusic \n\n\n\nDoria D\, 23 ans\, auteure\, compositrice\, interprète. \n\n\n\nEsprit torturé dans un monde absurde\, dès la petite enfance Doria se réfugie dans l’écriture et la musique. \n\n\n\nElle se produit dès ses 16 ans avec ses petites chansons en construction et sa guitare électrique dans des bars. \n\n\n\nElle signe en 2020 avec le label G-major Records et sort en 2021 son premier ep Dépendance. Son single phare est monté à la première place de l’ultra top et cumule plus de 10 MILLIONS d’écoutes sur les plateformes de streamings. Après deux tournées de plus de 50 dates chacune avec des scènes allant de mille à 10 milles personnes\, deux premières parties de Grand Corps Malade à Cannes et à Forest National\, Doria prend un peu de temps pour elle\, pour prendre du recul et se recentrer. \n\n\n\nDoria est maintenant en indé\, elle travaille sur un nouvel ep qu’elle crée avec ses potes et fera son grand retour en 2024 avec de nouveaux sons qui lui ressemblent. \n\n\n\nDoria rêve secrètement qu’un jour on puisse soigner et réunir toutes les âmes du monde grâce à la musique. \n\n\n\n► MARVETT \n\n\n\nhttps://www.facebook.com/marvettmusic \n\n\n\nMarvett est un artiste bruxellois qui a grandi\, bercé par le rock teenage des années 2000. Après un premier projet en anglais qui le propulsa en radio (TIPIK) ainsi que sur la scène du festival de Ronquières en 2022. Il revient avec un nouvel EP\, en français : « LALAL!FE » sorti le 8 septembre 2023. \n\n\n\nDans un style pop-rock inspiré par les géants américains : Machine Gun Kelly\, Blackbear ou encore KennyHoopla\, il compte bien imposer le genre en Belgique\, grâce à une nouvelle formule live puissante\, des mélodies catchy\, le tout saupoudré d’une bonne dose de nostalgie des années 2000. Dernier artiste en date à avoir rejoint l’agence bruxelloise\, Five Oh\, Marvett s’apprête à renverser les codes du pop rock français. On peut découvrir un premier extrait\, le single « 100 X »\, en duo avec la chanteuse Doria D. \n\n\n\n—————————————————————————————————————————— \n\n\n\nFête de la Musique à Namur coordonné par le Service Culture de la Ville de Namur \n\n\n\nhttps://www.facebook.com/fetedelamusiquenamur \n\n\n\nEn collaboration avec l’asbl ZnNamur \n\n\n\nhttps://www.facebook.com/zonenamur
URL:https://www.lanef.be/event/fete-de-la-musique-doria-d-marvett/
LOCATION:La Nef\, 2 rue saint-Nicolas\, NAMUR\, Namur\, 5000\, Belgium
CATEGORIES:Musique
ATTACH;FMTTYPE=image/png:https://www.lanef.be/wp-content/uploads/2018/04/logo-fete-de-la-musique.png
END:VEVENT
END:VCALENDAR