BEGIN:VCALENDAR
VERSION:2.0
PRODID:-//La Nef - ECPv6.15.11//NONSGML v1.0//EN
CALSCALE:GREGORIAN
METHOD:PUBLISH
X-WR-CALNAME:La Nef
X-ORIGINAL-URL:https://www.lanef.be
X-WR-CALDESC:Events for La Nef
REFRESH-INTERVAL;VALUE=DURATION:PT1H
X-Robots-Tag:noindex
X-PUBLISHED-TTL:PT1H
BEGIN:VTIMEZONE
TZID:Europe/Brussels
BEGIN:DAYLIGHT
TZOFFSETFROM:+0100
TZOFFSETTO:+0200
TZNAME:CEST
DTSTART:20230326T010000
END:DAYLIGHT
BEGIN:STANDARD
TZOFFSETFROM:+0200
TZOFFSETTO:+0100
TZNAME:CET
DTSTART:20231029T010000
END:STANDARD
BEGIN:DAYLIGHT
TZOFFSETFROM:+0100
TZOFFSETTO:+0200
TZNAME:CEST
DTSTART:20240331T010000
END:DAYLIGHT
BEGIN:STANDARD
TZOFFSETFROM:+0200
TZOFFSETTO:+0100
TZNAME:CET
DTSTART:20241027T010000
END:STANDARD
BEGIN:DAYLIGHT
TZOFFSETFROM:+0100
TZOFFSETTO:+0200
TZNAME:CEST
DTSTART:20250330T010000
END:DAYLIGHT
BEGIN:STANDARD
TZOFFSETFROM:+0200
TZOFFSETTO:+0100
TZNAME:CET
DTSTART:20251026T010000
END:STANDARD
END:VTIMEZONE
BEGIN:VEVENT
DTSTART;TZID=Europe/Brussels:20240504T190000
DTEND;TZID=Europe/Brussels:20240504T230000
DTSTAMP:20260423T095813
CREATED:20240125T144656Z
LAST-MODIFIED:20240205T080752Z
UID:8949-1714849200-1714863600@www.lanef.be
SUMMARY:Bastian Baker
DESCRIPTION:Progress Booking présente en collaboration avec la Nef \n\n\n\nAprès plus d’une dizaine d’années passées à sillonner le monde\, les scènes et les festivals les plus prestigieux\, Bastian Baker est de retour en Belgique pour une tournée acoustique intimiste. \n\n\n\nBastian Baker\, c’est avant tout une voix et une guitare. C’est dans cette configuration minimaliste et intimiste que l’artiste suisse a décidé de se produire ces prochains mois. Un retour aux sources qu’il se réjouit de présenter au public belge. La volonté de se produire dans de petites salles au charme atypique\, au plus proche de son public existe depuis des années chez Bastian. \n\n\n\nCette envie se transforme en réalité. Au programme\, tous ses tubes interprétés dans leur version originale\, anecdotes de tournées\, interaction\, improvisation\, setlist « à la carte ». \n\n\n\nUne soirée comme vous n’en avez jamais vécue\, aux côtés de l’artiste !
URL:https://www.lanef.be/event/bastian-baker/
LOCATION:La Nef\, 2 rue saint-Nicolas\, NAMUR\, Namur\, 5000\, Belgium
CATEGORIES:Musique
ATTACH;FMTTYPE=image/jpeg:https://www.lanef.be/wp-content/uploads/2024/01/bastian-baker.jpg
END:VEVENT
END:VCALENDAR