BEGIN:VCALENDAR
VERSION:2.0
PRODID:-//La Nef - ECPv6.15.11//NONSGML v1.0//EN
CALSCALE:GREGORIAN
METHOD:PUBLISH
X-ORIGINAL-URL:https://www.lanef.be
X-WR-CALDESC:Events for La Nef
REFRESH-INTERVAL;VALUE=DURATION:PT1H
X-Robots-Tag:noindex
X-PUBLISHED-TTL:PT1H
BEGIN:VTIMEZONE
TZID:Europe/Brussels
BEGIN:DAYLIGHT
TZOFFSETFROM:+0100
TZOFFSETTO:+0200
TZNAME:CEST
DTSTART:20230326T010000
END:DAYLIGHT
BEGIN:STANDARD
TZOFFSETFROM:+0200
TZOFFSETTO:+0100
TZNAME:CET
DTSTART:20231029T010000
END:STANDARD
BEGIN:DAYLIGHT
TZOFFSETFROM:+0100
TZOFFSETTO:+0200
TZNAME:CEST
DTSTART:20240331T010000
END:DAYLIGHT
BEGIN:STANDARD
TZOFFSETFROM:+0200
TZOFFSETTO:+0100
TZNAME:CET
DTSTART:20241027T010000
END:STANDARD
BEGIN:DAYLIGHT
TZOFFSETFROM:+0100
TZOFFSETTO:+0200
TZNAME:CEST
DTSTART:20250330T010000
END:DAYLIGHT
BEGIN:STANDARD
TZOFFSETFROM:+0200
TZOFFSETTO:+0100
TZNAME:CET
DTSTART:20251026T010000
END:STANDARD
END:VTIMEZONE
BEGIN:VEVENT
DTSTART;TZID=Europe/Brussels:20240402T200000
DTEND;TZID=Europe/Brussels:20240402T230000
DTSTAMP:20260423T110714
CREATED:20231128T121614Z
LAST-MODIFIED:20231128T123421Z
UID:8652-1712088000-1712098800@www.lanef.be
SUMMARY:And Also The Trees
DESCRIPTION:PANAMA et La Nef présentent AND ALSO THE TREES en concert  \n\n\n\nAnd Also The Trees s’est formé à l’époque du « Post-Punk » dans le Worcestershire\, en Angleterre.Ils sont connus pour leurs performances live captivantes\, leur style unique de mandoline comme la guitare électrique\, leurs paroles évocatrices\, leurs rythmes de jazz sombre et leur indépendance soigneusement préservée. \n\n\n\n« Mother-of-pearl Moon »\, le nouvel album « And Also The Trees »\, est une œuvre puissante qui a commencé comme une série d’improvisations extraordinaires à la guitare. Une voix\, une clarinette\, un piano\, des percussions\, une autoharpe et du Moog ont été ajoutés et l’auditeur est transporté dans les profondeurs de la campagne anglaise\, au loin dans toutes les directions de la boussole. L’album sortira en février 2024  \n\n\n\nIls seront dans le cadre prestigieux de l’église de à La Nef pour le présenter .
URL:https://www.lanef.be/event/and-also-the-trees/
LOCATION:La Nef\, 2 rue saint-Nicolas\, NAMUR\, Namur\, 5000\, Belgium
CATEGORIES:Musique
ATTACH;FMTTYPE=image/jpeg:https://www.lanef.be/wp-content/uploads/2023/11/AATT_band2023_16-9-scaled.jpg
ORGANIZER;CN="La Nef":MAILTO:info@lanef.be
END:VEVENT
END:VCALENDAR