BEGIN:VCALENDAR
VERSION:2.0
PRODID:-//La Nef - ECPv6.15.11//NONSGML v1.0//EN
CALSCALE:GREGORIAN
METHOD:PUBLISH
X-WR-CALNAME:La Nef
X-ORIGINAL-URL:https://www.lanef.be
X-WR-CALDESC:Events for La Nef
REFRESH-INTERVAL;VALUE=DURATION:PT1H
X-Robots-Tag:noindex
X-PUBLISHED-TTL:PT1H
BEGIN:VTIMEZONE
TZID:Europe/Brussels
BEGIN:DAYLIGHT
TZOFFSETFROM:+0100
TZOFFSETTO:+0200
TZNAME:CEST
DTSTART:20220327T010000
END:DAYLIGHT
BEGIN:STANDARD
TZOFFSETFROM:+0200
TZOFFSETTO:+0100
TZNAME:CET
DTSTART:20221030T010000
END:STANDARD
BEGIN:DAYLIGHT
TZOFFSETFROM:+0100
TZOFFSETTO:+0200
TZNAME:CEST
DTSTART:20230326T010000
END:DAYLIGHT
BEGIN:STANDARD
TZOFFSETFROM:+0200
TZOFFSETTO:+0100
TZNAME:CET
DTSTART:20231029T010000
END:STANDARD
BEGIN:DAYLIGHT
TZOFFSETFROM:+0100
TZOFFSETTO:+0200
TZNAME:CEST
DTSTART:20240331T010000
END:DAYLIGHT
BEGIN:STANDARD
TZOFFSETFROM:+0200
TZOFFSETTO:+0100
TZNAME:CET
DTSTART:20241027T010000
END:STANDARD
END:VTIMEZONE
BEGIN:VEVENT
DTSTART;TZID=Europe/Brussels:20231116T200000
DTEND;TZID=Europe/Brussels:20231116T223000
DTSTAMP:20260423T171417
CREATED:20230619T123805Z
LAST-MODIFIED:20231011T144703Z
UID:7766-1700164800-1700173800@www.lanef.be
SUMMARY:Alice on the roof
DESCRIPTION:Alice on the Roof se produira dans le cadre enchanteur de l’Eglise de La Nef ce 16 novembre pour le plus grand plaisir de tous ses fans.
URL:https://www.lanef.be/event/alice-on-the-roof/
LOCATION:La Nef\, 2 rue saint-Nicolas\, NAMUR\, Namur\, 5000\, Belgium
ATTACH;FMTTYPE=image/png:https://www.lanef.be/wp-content/uploads/2023/06/Alice-on-the-roof-1920x1080-1.png
END:VEVENT
END:VCALENDAR