BEGIN:VCALENDAR
VERSION:2.0
PRODID:-//La Nef - ECPv6.15.11//NONSGML v1.0//EN
CALSCALE:GREGORIAN
METHOD:PUBLISH
X-WR-CALNAME:La Nef
X-ORIGINAL-URL:https://www.lanef.be
X-WR-CALDESC:Events for La Nef
REFRESH-INTERVAL;VALUE=DURATION:PT1H
X-Robots-Tag:noindex
X-PUBLISHED-TTL:PT1H
BEGIN:VTIMEZONE
TZID:Europe/Brussels
BEGIN:DAYLIGHT
TZOFFSETFROM:+0100
TZOFFSETTO:+0200
TZNAME:CEST
DTSTART:20220327T010000
END:DAYLIGHT
BEGIN:STANDARD
TZOFFSETFROM:+0200
TZOFFSETTO:+0100
TZNAME:CET
DTSTART:20221030T010000
END:STANDARD
BEGIN:DAYLIGHT
TZOFFSETFROM:+0100
TZOFFSETTO:+0200
TZNAME:CEST
DTSTART:20230326T010000
END:DAYLIGHT
BEGIN:STANDARD
TZOFFSETFROM:+0200
TZOFFSETTO:+0100
TZNAME:CET
DTSTART:20231029T010000
END:STANDARD
BEGIN:DAYLIGHT
TZOFFSETFROM:+0100
TZOFFSETTO:+0200
TZNAME:CEST
DTSTART:20240331T010000
END:DAYLIGHT
BEGIN:STANDARD
TZOFFSETFROM:+0200
TZOFFSETTO:+0100
TZNAME:CET
DTSTART:20241027T010000
END:STANDARD
END:VTIMEZONE
BEGIN:VEVENT
DTSTART;TZID=Europe/Brussels:20230401T150000
DTEND;TZID=Europe/Brussels:20230401T170000
DTSTAMP:20260424T061746
CREATED:20230131T230833Z
LAST-MODIFIED:20230131T230904Z
UID:6931-1680361200-1680368400@www.lanef.be
SUMMARY:Challenge d’Eloquence Daniel L'Hoir
DESCRIPTION:Les 40 Molons sont heureux de vous annoncer le retour du Challenge d’Eloquence le 1er avril prochain (et ceci est un clin d’œil malicieux mais non un poisson du premier du mois). L’endroit choisi pour ce concours est le cadre prestigieux de la NEF\, située dans l’église désacralisée rue St Nicolas. \n\n\n\nDe nombreux lots récompenseront les lauréats et candidats. Le concours réunit des candidats de 8 à 15 ans\, qui déclameront une histoire\, un poème ou qui présenteront une saynète dans le but de faire rire ou émouvoir l’auditoire. Les prestations peuvent se faire en solo\, en duo ou à trois\, en français ou en wallon\, et dans un langage visant à ne blesser quiconque. \n\n\n\nInscriptions et Infos:ce.dellisse@yahoo.fr – Claude DELLISSE
URL:https://www.lanef.be/event/challenge-deloquence-daniel-lhoir-2/
LOCATION:Namur
ATTACH;FMTTYPE=image/jpeg:https://www.lanef.be/wp-content/uploads/2023/02/323903338_1195400284410559_4400557958737771879_n.jpg
END:VEVENT
END:VCALENDAR