BEGIN:VCALENDAR
VERSION:2.0
PRODID:-//La Nef - ECPv6.15.11//NONSGML v1.0//EN
CALSCALE:GREGORIAN
METHOD:PUBLISH
X-ORIGINAL-URL:https://www.lanef.be
X-WR-CALDESC:Events for La Nef
REFRESH-INTERVAL;VALUE=DURATION:PT1H
X-Robots-Tag:noindex
X-PUBLISHED-TTL:PT1H
BEGIN:VTIMEZONE
TZID:Europe/Brussels
BEGIN:DAYLIGHT
TZOFFSETFROM:+0100
TZOFFSETTO:+0200
TZNAME:CEST
DTSTART:20220327T010000
END:DAYLIGHT
BEGIN:STANDARD
TZOFFSETFROM:+0200
TZOFFSETTO:+0100
TZNAME:CET
DTSTART:20221030T010000
END:STANDARD
BEGIN:DAYLIGHT
TZOFFSETFROM:+0100
TZOFFSETTO:+0200
TZNAME:CEST
DTSTART:20230326T010000
END:DAYLIGHT
BEGIN:STANDARD
TZOFFSETFROM:+0200
TZOFFSETTO:+0100
TZNAME:CET
DTSTART:20231029T010000
END:STANDARD
BEGIN:DAYLIGHT
TZOFFSETFROM:+0100
TZOFFSETTO:+0200
TZNAME:CEST
DTSTART:20240331T010000
END:DAYLIGHT
BEGIN:STANDARD
TZOFFSETFROM:+0200
TZOFFSETTO:+0100
TZNAME:CET
DTSTART:20241027T010000
END:STANDARD
END:VTIMEZONE
BEGIN:VEVENT
DTSTART;TZID=Europe/Brussels:20230325T200000
DTEND;TZID=Europe/Brussels:20230325T230000
DTSTAMP:20260424T074847
CREATED:20221005T142704Z
LAST-MODIFIED:20230102T131949Z
UID:6385-1679774400-1679785200@www.lanef.be
SUMMARY:Namur is a Joke 2023 - OLDELAF & ARNAUD JOYET - TRAQUEURS DE NAZIS
DESCRIPTION:Tout public \n\n\n\n\n\n \n\n\n\nDe & Avec : Oldelaf et Arnaud Joyet \n\n\n\nAutre info importante : nous ne sommes pas vegans \n\n\n\nEn 1993\, Oldelaf et Arnaud Joyet\, aujourd’hui vedettes reconnues du monde de l’intermittence\, n’étaient encore que deux étudiants paumés en colocation. \n\n\n\nIls tombent un soir à la TV sur un reportage sur Serge et Beate Klarsfeld\, le couple qui a débusqué et traîné devant la justice les nazis Eichmann et Barbie\, au péril de leur propre vie. \n\n\n\nC’est le déclic. \n\n\n\nIls décident de reprendre le flambeau\, même si ça brûle. \n\n\n\nCette aventure les mènera en chanson et en bonne humeur de la bibliothèque du Perreux-sur-Marne à Bogota\, en passant par la forêt de Rambouillet ou un bowling\, et sertira leur amitié du sceau le plus noble : être Traqueurs de Nazis.
URL:https://www.lanef.be/event/namur-is-a-joke-2023-oldelaf-arnaud-joyet-traqueurs-de-nazis/
LOCATION:Namur
ATTACH;FMTTYPE=image/jpeg:https://www.lanef.be/wp-content/uploads/2022/10/VISUELS-LA-NEF-NIAJ-ANNONCE-2023-1920X1080-scaled.jpg
END:VEVENT
END:VCALENDAR