BEGIN:VCALENDAR
VERSION:2.0
PRODID:-//La Nef - ECPv6.15.11//NONSGML v1.0//EN
CALSCALE:GREGORIAN
METHOD:PUBLISH
X-ORIGINAL-URL:https://www.lanef.be
X-WR-CALDESC:Events for La Nef
REFRESH-INTERVAL;VALUE=DURATION:PT1H
X-Robots-Tag:noindex
X-PUBLISHED-TTL:PT1H
BEGIN:VTIMEZONE
TZID:Europe/Brussels
BEGIN:DAYLIGHT
TZOFFSETFROM:+0100
TZOFFSETTO:+0200
TZNAME:CEST
DTSTART:20220327T010000
END:DAYLIGHT
BEGIN:STANDARD
TZOFFSETFROM:+0200
TZOFFSETTO:+0100
TZNAME:CET
DTSTART:20221030T010000
END:STANDARD
BEGIN:DAYLIGHT
TZOFFSETFROM:+0100
TZOFFSETTO:+0200
TZNAME:CEST
DTSTART:20230326T010000
END:DAYLIGHT
BEGIN:STANDARD
TZOFFSETFROM:+0200
TZOFFSETTO:+0100
TZNAME:CET
DTSTART:20231029T010000
END:STANDARD
BEGIN:DAYLIGHT
TZOFFSETFROM:+0100
TZOFFSETTO:+0200
TZNAME:CEST
DTSTART:20240331T010000
END:DAYLIGHT
BEGIN:STANDARD
TZOFFSETFROM:+0200
TZOFFSETTO:+0100
TZNAME:CET
DTSTART:20241027T010000
END:STANDARD
END:VTIMEZONE
BEGIN:VEVENT
DTSTART;TZID=Europe/Brussels:20230323T200000
DTEND;TZID=Europe/Brussels:20230323T230000
DTSTAMP:20260424T074847
CREATED:20221005T142345Z
LAST-MODIFIED:20230102T131725Z
UID:6381-1679601600-1679612400@www.lanef.be
SUMMARY:Namur is a Joke 2023 - MORGANE CADIGNAN
DESCRIPTION:MORGANE CADIGNAN \n\n\n\nVous n’en avez pas marre de sortir de chez vous tous les jours avec votre costume de citoyen parfait ? Elle\, si ! \n\n\n\nA 30 ans\, Morgane se pose plein de questions sur la société et sa place dans un monde de plus en plus compliqué. \n\n\n\nEt toutes ces interrogations\, elle a souvent la flemme d’y répondre. Non parce que la pression\, ça va deux minutes. \n\n\n\nL’astrologie aussi ça va deux minutes. Ah oui\, et faut qu’on parle des gens qui dansent le Madison\, là-dessus on a un vrai problème. \n\n\n\nBon. Asseyez-vous. On va prendre un verre parce que ça risque de prendre un moment. On est combien ? On va prendre une bouteille du coup. \n\n\n\nMise en scène : Thierno Thioune
URL:https://www.lanef.be/event/namur-is-a-joke-2023-morgane-cadignan/
LOCATION:Namur
ATTACH;FMTTYPE=image/jpeg:https://www.lanef.be/wp-content/uploads/2022/10/VISUELS-LA-NEF-NIAJ-ANNONCE-2023-1920X1080-scaled.jpg
END:VEVENT
END:VCALENDAR