BEGIN:VCALENDAR
VERSION:2.0
PRODID:-//La Nef - ECPv6.15.11//NONSGML v1.0//EN
CALSCALE:GREGORIAN
METHOD:PUBLISH
X-ORIGINAL-URL:https://www.lanef.be
X-WR-CALDESC:Events for La Nef
REFRESH-INTERVAL;VALUE=DURATION:PT1H
X-Robots-Tag:noindex
X-PUBLISHED-TTL:PT1H
BEGIN:VTIMEZONE
TZID:Europe/Brussels
BEGIN:DAYLIGHT
TZOFFSETFROM:+0100
TZOFFSETTO:+0200
TZNAME:CEST
DTSTART:20210328T010000
END:DAYLIGHT
BEGIN:STANDARD
TZOFFSETFROM:+0200
TZOFFSETTO:+0100
TZNAME:CET
DTSTART:20211031T010000
END:STANDARD
BEGIN:DAYLIGHT
TZOFFSETFROM:+0100
TZOFFSETTO:+0200
TZNAME:CEST
DTSTART:20220327T010000
END:DAYLIGHT
BEGIN:STANDARD
TZOFFSETFROM:+0200
TZOFFSETTO:+0100
TZNAME:CET
DTSTART:20221030T010000
END:STANDARD
BEGIN:DAYLIGHT
TZOFFSETFROM:+0100
TZOFFSETTO:+0200
TZNAME:CEST
DTSTART:20230326T010000
END:DAYLIGHT
BEGIN:STANDARD
TZOFFSETFROM:+0200
TZOFFSETTO:+0100
TZNAME:CET
DTSTART:20231029T010000
END:STANDARD
END:VTIMEZONE
BEGIN:VEVENT
DTSTART;TZID=Europe/Brussels:20220617T000000
DTEND;TZID=Europe/Brussels:20220617T235959
DTSTAMP:20260424T205643
CREATED:20220214T144349Z
LAST-MODIFIED:20220605T165942Z
UID:5769-1655424000-1655510399@www.lanef.be
SUMMARY:Fête de la musique
DESCRIPTION:Comme chaque année\, la Ville de Namur et ses partenaires se mobilisent pour fêter la musique. \n\n\n\nAu programme\, du jeudi 16 au dimanche 19 juin 2022\, des concerts gratuits et variés dans des lieux parfois insolites.  \n\n\n\nLa Nef sera l’occasion d’accueillir BENNI\, une jeune artiste à la voix atypique\, le 17 juin 2022 dans le cadre du parcours « Musiques à  tous les étages » coordonné par le Service Culture de la Ville de Namur\, en collaboration avec Les Jeunesses musicales. L’asbl Zone Namur a carte blanche pour la programmation de la soirée
URL:https://www.lanef.be/event/fete-de-la-musique/
LOCATION:Namur
CATEGORIES:Musique
ATTACH;FMTTYPE=image/png:https://www.lanef.be/wp-content/uploads/2022/02/ZN_Billetterie_1920x1080.png
END:VEVENT
END:VCALENDAR