BEGIN:VCALENDAR
VERSION:2.0
PRODID:-//La Nef - ECPv6.15.11//NONSGML v1.0//EN
CALSCALE:GREGORIAN
METHOD:PUBLISH
X-WR-CALNAME:La Nef
X-ORIGINAL-URL:https://www.lanef.be
X-WR-CALDESC:Events for La Nef
REFRESH-INTERVAL;VALUE=DURATION:PT1H
X-Robots-Tag:noindex
X-PUBLISHED-TTL:PT1H
BEGIN:VTIMEZONE
TZID:Europe/Brussels
BEGIN:DAYLIGHT
TZOFFSETFROM:+0100
TZOFFSETTO:+0200
TZNAME:CEST
DTSTART:20210328T010000
END:DAYLIGHT
BEGIN:STANDARD
TZOFFSETFROM:+0200
TZOFFSETTO:+0100
TZNAME:CET
DTSTART:20211031T010000
END:STANDARD
BEGIN:DAYLIGHT
TZOFFSETFROM:+0100
TZOFFSETTO:+0200
TZNAME:CEST
DTSTART:20220327T010000
END:DAYLIGHT
BEGIN:STANDARD
TZOFFSETFROM:+0200
TZOFFSETTO:+0100
TZNAME:CET
DTSTART:20221030T010000
END:STANDARD
BEGIN:DAYLIGHT
TZOFFSETFROM:+0100
TZOFFSETTO:+0200
TZNAME:CEST
DTSTART:20230326T010000
END:DAYLIGHT
BEGIN:STANDARD
TZOFFSETFROM:+0200
TZOFFSETTO:+0100
TZNAME:CET
DTSTART:20231029T010000
END:STANDARD
END:VTIMEZONE
BEGIN:VEVENT
DTSTART;TZID=Europe/Brussels:20220325T150000
DTEND;TZID=Europe/Brussels:20220326T010000
DTSTAMP:20260425T004403
CREATED:20220302T124002Z
LAST-MODIFIED:20220325T093506Z
UID:5827-1648220400-1648256400@www.lanef.be
SUMMARY:Fest' IPA
DESCRIPTION:Fête de la bière\, venez déguster des IPA à La Nef  \n\n\n\n \n\n\n\nLes IPA (India Pale Ale) sont très à la mode actuellement. Et pour cause! Les brasseurs tirent le meilleur des houblons pour proposer des produits aux odeurs enivrantes\, aux saveurs variées et à la texture ronde et rafraichissante. \n\n\n\nLa créativité devient la seule limite et permet des déclinaisons multiples qui raviront tous les amateurs de bières\, beergeek ou novice. Notre équipe vous proposera une quarantaine de variétés de la classique IPA à la TIPA DDH en passant par tous les acronymes barbares (Session IPA\, Black/white IPA\, DIPA\, NEIPA\, Sour\, Brut\, etc.)! \n\n\n\nLes bières de type « saison » ne seront pas oubliées grâce à une sélection des plus emblématique. \n\n\n\nVenez découvrir la richesse du style « IPA »… de l’amertume aux fruits exotiques\, des légères aux fortes\, des blondes aux noires…Nous nous réjouissons de vous accueillir ces 25 et 26 mars! \n\n\n\n \n\n\n\nHoraire :Vendredi 25 mars : 15h00 – 1h00Samedi 26 mars : 11h – 00h00L’adresse:La Nef2\, rue Saint Nicolas5000 Namur
URL:https://www.lanef.be/event/fest-ipa/
LOCATION:Namur
ATTACH;FMTTYPE=image/jpeg:https://www.lanef.be/wp-content/uploads/2022/03/274162476_6933458896729076_605795362800894870_n.jpg
END:VEVENT
END:VCALENDAR