BEGIN:VCALENDAR
VERSION:2.0
PRODID:-//La Nef - ECPv6.15.11//NONSGML v1.0//EN
CALSCALE:GREGORIAN
METHOD:PUBLISH
X-ORIGINAL-URL:https://www.lanef.be
X-WR-CALDESC:Events for La Nef
REFRESH-INTERVAL;VALUE=DURATION:PT1H
X-Robots-Tag:noindex
X-PUBLISHED-TTL:PT1H
BEGIN:VTIMEZONE
TZID:Europe/Brussels
BEGIN:DAYLIGHT
TZOFFSETFROM:+0100
TZOFFSETTO:+0200
TZNAME:CEST
DTSTART:20210328T010000
END:DAYLIGHT
BEGIN:STANDARD
TZOFFSETFROM:+0200
TZOFFSETTO:+0100
TZNAME:CET
DTSTART:20211031T010000
END:STANDARD
BEGIN:DAYLIGHT
TZOFFSETFROM:+0100
TZOFFSETTO:+0200
TZNAME:CEST
DTSTART:20220327T010000
END:DAYLIGHT
BEGIN:STANDARD
TZOFFSETFROM:+0200
TZOFFSETTO:+0100
TZNAME:CET
DTSTART:20221030T010000
END:STANDARD
BEGIN:DAYLIGHT
TZOFFSETFROM:+0100
TZOFFSETTO:+0200
TZNAME:CEST
DTSTART:20230326T010000
END:DAYLIGHT
BEGIN:STANDARD
TZOFFSETFROM:+0200
TZOFFSETTO:+0100
TZNAME:CET
DTSTART:20231029T010000
END:STANDARD
END:VTIMEZONE
BEGIN:VEVENT
DTSTART;TZID=Europe/Brussels:20220319T100000
DTEND;TZID=Europe/Brussels:20220319T170000
DTSTAMP:20260425T004144
CREATED:20220205T195852Z
LAST-MODIFIED:20220222T102148Z
UID:5745-1647684000-1647709200@www.lanef.be
SUMMARY:Chambres avec Vues - parcours d'artistes Namur
DESCRIPTION:C’est reparti pour une nouvelle édition de Chambres avec Vues – parcours d’artistes Namur\, les 12-13 et 19-20 mars prochains ! \n\n\n\nPrès de 500 artistes exposent\, en solo ou au sein d’un collectif\, dans toutes les disciplines artistiques : photographie\, peinture\, sculpture\, illustration\, gravure\, design\, street art\, céramique\, stylisme\, aquarelle\, vidéo… \n\n\n\nLa Nef ouvre ses portes au collectif “arts-émulsions”\, une Asbl d’artistes et d’œuvres hors du commun\, à l’occasion du parcours d’artistes\, Chambres avec vues. \n\n\n\nBesoin d’une pause lors du parcours ? Venez vous rafraîchir dans l’espace bar de La Nef. \n\n\n\n \n\n\n\nCENTRE-INFO ?֍ Galerie du Beffroi\, 13 rue du Beffroi – tél : 081 22 84 76֍ Les Bateliers\, 7 rue Saintraint – 081 24 87 20֍ La Maison du Tourisme\, place de la Station – 081 24 64 49 \n\n\n\nL’entrée est gratuite
URL:https://www.lanef.be/event/chambres-avec-vues-parcours-dartistes-namur-2022-03-19/
LOCATION:Namur
ATTACH;FMTTYPE=image/jpeg:https://www.lanef.be/wp-content/uploads/2018/04/chambreavecvue.jpg
END:VEVENT
END:VCALENDAR