BEGIN:VCALENDAR
VERSION:2.0
PRODID:-//La Nef - ECPv6.15.11//NONSGML v1.0//EN
CALSCALE:GREGORIAN
METHOD:PUBLISH
X-WR-CALNAME:La Nef
X-ORIGINAL-URL:https://www.lanef.be
X-WR-CALDESC:Events for La Nef
REFRESH-INTERVAL;VALUE=DURATION:PT1H
X-Robots-Tag:noindex
X-PUBLISHED-TTL:PT1H
BEGIN:VTIMEZONE
TZID:Europe/Brussels
BEGIN:DAYLIGHT
TZOFFSETFROM:+0100
TZOFFSETTO:+0200
TZNAME:CEST
DTSTART:20210328T010000
END:DAYLIGHT
BEGIN:STANDARD
TZOFFSETFROM:+0200
TZOFFSETTO:+0100
TZNAME:CET
DTSTART:20211031T010000
END:STANDARD
BEGIN:DAYLIGHT
TZOFFSETFROM:+0100
TZOFFSETTO:+0200
TZNAME:CEST
DTSTART:20220327T010000
END:DAYLIGHT
BEGIN:STANDARD
TZOFFSETFROM:+0200
TZOFFSETTO:+0100
TZNAME:CET
DTSTART:20221030T010000
END:STANDARD
BEGIN:DAYLIGHT
TZOFFSETFROM:+0100
TZOFFSETTO:+0200
TZNAME:CEST
DTSTART:20230326T010000
END:DAYLIGHT
BEGIN:STANDARD
TZOFFSETFROM:+0200
TZOFFSETTO:+0100
TZNAME:CET
DTSTART:20231029T010000
END:STANDARD
END:VTIMEZONE
BEGIN:VEVENT
DTSTART;TZID=Europe/Brussels:20220309T200000
DTEND;TZID=Europe/Brussels:20220309T230000
DTSTAMP:20260425T004108
CREATED:20211207T172741Z
LAST-MODIFIED:20220103T035414Z
UID:5440-1646856000-1646866800@www.lanef.be
SUMMARY:Antoine Wielemans
DESCRIPTION:Antoine Wielemans\, le talentueux et inspiré chanteur/guitariste de Girls In Hawaii\, nous présentera son projet solo le 9 mars 2022 dans le cadre exceptionnel de La Nef de l’Eglise Notre Dame d’Harscamp à Namur. Antoine Wielemans est un des 2 fondateurs/compositeurs/chanteurs de Girls in Hawaii. Alors qu’il sortait essoré d’une tournée marathon avec son groupe\, une petite voix l’a amené à réécrire\, doucement\, autrement. Fruit d’un long processus\, d’un cheminement\, les mots qu’il a commencé à écrire lui sont venus en français\, sa langue maternelle.  \n  \nDans le cadre de « Franc Parler » Une collaboration entre le Service de la Culture de la Province de Namur\, la Maison de la Poésie\, les Jeunesses Musicales de Namur\, le Point Culture et le Saint-Louis Festival et de La Nef. \n \n 
URL:https://www.lanef.be/event/antoine-wielemans/
LOCATION:Namur
CATEGORIES:Musique
ATTACH;FMTTYPE=image/jpeg:https://www.lanef.be/wp-content/uploads/2021/12/Antoine-Wielemans-_nef_web.jpg
END:VEVENT
END:VCALENDAR